BEGIN:VCALENDAR
VERSION:2.0
PRODID:-//The Nautilus Gym Douglas Isle of Man - ECPv6.8.1//NONSGML v1.0//EN
CALSCALE:GREGORIAN
METHOD:PUBLISH
X-WR-CALNAME:The Nautilus Gym Douglas Isle of Man
X-ORIGINAL-URL:https://thenautilusgym.im
X-WR-CALDESC:Events for The Nautilus Gym Douglas Isle of Man
REFRESH-INTERVAL;VALUE=DURATION:PT1H
X-Robots-Tag:noindex
X-PUBLISHED-TTL:PT1H
BEGIN:VTIMEZONE
TZID:Europe/London
BEGIN:DAYLIGHT
TZOFFSETFROM:+0000
TZOFFSETTO:+0100
TZNAME:BST
DTSTART:20250330T010000
END:DAYLIGHT
BEGIN:STANDARD
TZOFFSETFROM:+0100
TZOFFSETTO:+0000
TZNAME:GMT
DTSTART:20251026T010000
END:STANDARD
END:VTIMEZONE
BEGIN:VEVENT
DTSTART;TZID=Europe/London:20250515T060000
DTEND;TZID=Europe/London:20250515T063000
DTSTAMP:20260420T034414
CREATED:20250504T080158Z
LAST-MODIFIED:20250504T080158Z
UID:7648-1747288800-1747290600@thenautilusgym.im
SUMMARY:HIITSTEP with Amy
DESCRIPTION:HIITSTEP is a New and innovative 30 min HIIT exercise class using body weight and a STEP. \nTo book this class please contact ABC Fitness on 404267 or email abcfitnessiom@gmail.com \nABC Fitness | Douglas Isle Of Man | Facebook
URL:https://thenautilusgym.im/classes/hiitstep-with-amy-148/
END:VEVENT
BEGIN:VEVENT
DTSTART;TZID=Europe/London:20250515T063000
DTEND;TZID=Europe/London:20250515T070000
DTSTAMP:20260420T034414
CREATED:20250504T080418Z
LAST-MODIFIED:20250504T080418Z
UID:7656-1747290600-1747292400@thenautilusgym.im
SUMMARY:HIITCIRCUIT with Amy
DESCRIPTION:HIIT meaning High-intensity interval training is a class that alternates short periods of intense or explosive anaerobic exercise with brief recovery periods. \nHIIT training not only increases your metabolism during the workout\, but it stays elevated after the workout is complete\, meaning your body is burning more calories at rest. \nTo book this class please contact ABC Fitness on 404267 or email abcfitnessiom@gmail.com \nABC Fitness | Douglas Isle Of Man | Facebook
URL:https://thenautilusgym.im/classes/hiitcircuit-with-amy-71/
END:VEVENT
BEGIN:VEVENT
DTSTART;TZID=Europe/London:20250515T173000
DTEND;TZID=Europe/London:20250515T181500
DTSTAMP:20260420T034414
CREATED:20250504T080801Z
LAST-MODIFIED:20250504T080801Z
UID:7664-1747330200-1747332900@thenautilusgym.im
SUMMARY:*Booty Bands with Paula
DESCRIPTION:To book this class please contact ABC Fitness on 404267 or email abcfitnessiom@gmail.com \nABC Fitness | Douglas Isle Of Man | Facebook
URL:https://thenautilusgym.im/classes/booty-bands-with-paula-4/
END:VEVENT
END:VCALENDAR