BEGIN:VCALENDAR
VERSION:2.0
PRODID:-//The Nautilus Gym Douglas Isle of Man - ECPv6.8.1//NONSGML v1.0//EN
CALSCALE:GREGORIAN
METHOD:PUBLISH
X-ORIGINAL-URL:https://thenautilusgym.im
X-WR-CALDESC:Events for The Nautilus Gym Douglas Isle of Man
REFRESH-INTERVAL;VALUE=DURATION:PT1H
X-Robots-Tag:noindex
X-PUBLISHED-TTL:PT1H
BEGIN:VTIMEZONE
TZID:Europe/London
BEGIN:DAYLIGHT
TZOFFSETFROM:+0000
TZOFFSETTO:+0100
TZNAME:BST
DTSTART:20250330T010000
END:DAYLIGHT
BEGIN:STANDARD
TZOFFSETFROM:+0100
TZOFFSETTO:+0000
TZNAME:GMT
DTSTART:20251026T010000
END:STANDARD
END:VTIMEZONE
BEGIN:VEVENT
DTSTART;TZID=Europe/London:20250514T060000
DTEND;TZID=Europe/London:20250514T063000
DTSTAMP:20260420T034448
CREATED:20250504T075343Z
LAST-MODIFIED:20250504T075343Z
UID:7623-1747202400-1747204200@thenautilusgym.im
SUMMARY:*CIRCUITS with Amy
DESCRIPTION:To book this class please contact ABC Fitness on 404267 or email abcfitnessiom@gmail.com \nABC Fitness | Douglas Isle Of Man | Facebook
URL:https://thenautilusgym.im/classes/circuits-with-amy-11/
END:VEVENT
BEGIN:VEVENT
DTSTART;TZID=Europe/London:20250514T173000
DTEND;TZID=Europe/London:20250514T181500
DTSTAMP:20260420T034448
CREATED:20250504T075537Z
LAST-MODIFIED:20250504T075537Z
UID:7631-1747243800-1747246500@thenautilusgym.im
SUMMARY:POWERSTEP & SCULPT with Amy
DESCRIPTION:Get your heart and lungs in shape and tone your lower body during this classic choreographed class. Terrific cross-training for runners\, cyclists and walkers.\n\n\nIt’s a classic cardio workout\, it’s lasted decades for a simple reason – it delivers results!\n\n\n\n\n\n£30 for the 5 week block or £6.50 PAYG\n\nTo book this class please contact ABC Fitness on 404267 or email abcfitnessiom@gmail.com \nABC Fitness | Douglas Isle Of Man | Facebook
URL:https://thenautilusgym.im/classes/powerstep-sculpt-with-amy-8/
END:VEVENT
BEGIN:VEVENT
DTSTART;TZID=Europe/London:20250514T190000
DTEND;TZID=Europe/London:20250514T200000
DTSTAMP:20260420T034448
CREATED:20250504T075954Z
LAST-MODIFIED:20250504T075954Z
UID:7639-1747249200-1747252800@thenautilusgym.im
SUMMARY:*Filipino Martial Arts with Ean
DESCRIPTION:ATP IOM \nTO BOOK: 385205
URL:https://thenautilusgym.im/classes/filipino-martial-arts-with-ean-21/
END:VEVENT
END:VCALENDAR