BEGIN:VCALENDAR
VERSION:2.0
PRODID:-//The Nautilus Gym Douglas Isle of Man - ECPv6.8.1//NONSGML v1.0//EN
CALSCALE:GREGORIAN
METHOD:PUBLISH
X-WR-CALNAME:The Nautilus Gym Douglas Isle of Man
X-ORIGINAL-URL:https://thenautilusgym.im
X-WR-CALDESC:Events for The Nautilus Gym Douglas Isle of Man
REFRESH-INTERVAL;VALUE=DURATION:PT1H
X-Robots-Tag:noindex
X-PUBLISHED-TTL:PT1H
BEGIN:VTIMEZONE
TZID:Europe/London
BEGIN:DAYLIGHT
TZOFFSETFROM:+0000
TZOFFSETTO:+0100
TZNAME:BST
DTSTART:20250330T010000
END:DAYLIGHT
BEGIN:STANDARD
TZOFFSETFROM:+0100
TZOFFSETTO:+0000
TZNAME:GMT
DTSTART:20251026T010000
END:STANDARD
END:VTIMEZONE
BEGIN:VEVENT
DTSTART;TZID=Europe/London:20250506T060000
DTEND;TZID=Europe/London:20250506T063000
DTSTAMP:20260420T045436
CREATED:20250504T074644Z
LAST-MODIFIED:20250504T074644Z
UID:7598-1746511200-1746513000@thenautilusgym.im
SUMMARY:HIITCIRCUIT with Amy
DESCRIPTION:HIIT meaning High-intensity interval training is a class that alternates short periods of intense or explosive anaerobic exercise with brief recovery periods. \nHIIT training not only increases your metabolism during the workout\, but it stays elevated after the workout is complete\, meaning your body is burning more calories at rest. \nTo book this class please contact ABC Fitness on 404267 or email abcfitnessiom@gmail.com \nABC Fitness | Douglas Isle Of Man | Facebook
URL:https://thenautilusgym.im/classes/hiitcircuit-with-amy-69/
END:VEVENT
BEGIN:VEVENT
DTSTART;TZID=Europe/London:20250506T063000
DTEND;TZID=Europe/London:20250506T070000
DTSTAMP:20260420T045436
CREATED:20250504T074815Z
LAST-MODIFIED:20250504T074815Z
UID:7606-1746513000-1746514800@thenautilusgym.im
SUMMARY:HIITCARDIO with Amy
DESCRIPTION:Come check out our HIIT classes!\n\n\nHIIT is high-intensity interval training which alternates between high intensity movements\, significantly increasing the heart rate\, followed by short periods of lower intensity movements. This program decreases body fat while increasing strength and endurance.\n\n\n\nTo book this class please contact ABC Fitness on 404267 or email abcfitnessiom@gmail.com \nABC Fitness | Douglas Isle Of Man | Facebook
URL:https://thenautilusgym.im/classes/hiitcardio-with-amy-48/
END:VEVENT
BEGIN:VEVENT
DTSTART;TZID=Europe/London:20250506T173000
DTEND;TZID=Europe/London:20250506T181500
DTSTAMP:20260420T045436
CREATED:20250504T075105Z
LAST-MODIFIED:20250504T075105Z
UID:7614-1746552600-1746555300@thenautilusgym.im
SUMMARY:STRONG FOUNDATIONS with Paula
DESCRIPTION:STRONG FOUNDATIONS -A class that focuses on The basic 7 functional movement patterns which include:\n* Squat.\n* Hinge.\n* Lunge.\n* Push.\n* Pull.\n* Carry.\n* Rotate.\n\n\nForward and backward movements happen in the sagittal plane. Side-to-side movements occur in the frontal plane movements. And rotational movements happen in the transverse plane. Strength is a fundamental component of fitness\, and whether you’re an athlete aiming to improve your performance\, a fitness enthusiast looking to “tone up”\, or someone simply wanting to be functional in your daily life\, getting stronger is essential.\n\nTo book this class please contact ABC Fitness on 404267 or email abcfitnessiom@gmail.com \nABC Fitness | Douglas Isle Of Man | Facebook
URL:https://thenautilusgym.im/classes/strong-foundations-with-paula-21/
END:VEVENT
END:VCALENDAR