BEGIN:VCALENDAR
VERSION:2.0
PRODID:-//The Nautilus Gym Douglas Isle of Man - ECPv6.8.1//NONSGML v1.0//EN
CALSCALE:GREGORIAN
METHOD:PUBLISH
X-ORIGINAL-URL:https://thenautilusgym.im
X-WR-CALDESC:Events for The Nautilus Gym Douglas Isle of Man
REFRESH-INTERVAL;VALUE=DURATION:PT1H
X-Robots-Tag:noindex
X-PUBLISHED-TTL:PT1H
BEGIN:VTIMEZONE
TZID:Europe/London
BEGIN:DAYLIGHT
TZOFFSETFROM:+0000
TZOFFSETTO:+0100
TZNAME:BST
DTSTART:20250330T010000
END:DAYLIGHT
BEGIN:STANDARD
TZOFFSETFROM:+0100
TZOFFSETTO:+0000
TZNAME:GMT
DTSTART:20251026T010000
END:STANDARD
END:VTIMEZONE
BEGIN:VEVENT
DTSTART;TZID=Europe/London:20250430T060000
DTEND;TZID=Europe/London:20250430T063000
DTSTAMP:20260420T021604
CREATED:20250406T081550Z
LAST-MODIFIED:20250406T081550Z
UID:7526-1745992800-1745994600@thenautilusgym.im
SUMMARY:CIRCUITS with Amy
DESCRIPTION:
URL:https://thenautilusgym.im/classes/circuits-with-amy-5/
END:VEVENT
BEGIN:VEVENT
DTSTART;TZID=Europe/London:20250430T173000
DTEND;TZID=Europe/London:20250430T181500
DTSTAMP:20260420T021604
CREATED:20250406T081359Z
LAST-MODIFIED:20250406T081359Z
UID:7521-1746034200-1746036900@thenautilusgym.im
SUMMARY:POWERSTEP & SCULPT with Amy
DESCRIPTION:Get your heart and lungs in shape and tone your lower body during this classic choreographed class. Terrific cross-training for runners\, cyclists and walkers.\n\n\nIt’s a classic cardio workout\, it’s lasted decades for a simple reason – it delivers results!\n\n\n\n\n\n£30 for the 5 week block or £6.50 PAYG\n\nTo book this class please contact ABC Fitness on 404267 or email abcfitnessiom@gmail.com \nABC Fitness | Douglas Isle Of Man | Facebook
URL:https://thenautilusgym.im/classes/powerstep-sculpt-with-amy-2/
END:VEVENT
BEGIN:VEVENT
DTSTART;TZID=Europe/London:20250430T190000
DTEND;TZID=Europe/London:20250430T200000
DTSTAMP:20260420T021604
CREATED:20250406T081847Z
LAST-MODIFIED:20250406T081929Z
UID:7534-1746039600-1746043200@thenautilusgym.im
SUMMARY:*Filipino Martial Arts with Ean
DESCRIPTION:ATP IOM \nTO BOOK: 385205
URL:https://thenautilusgym.im/classes/filipino-martial-arts-with-ean-15/
END:VEVENT
END:VCALENDAR