BEGIN:VCALENDAR
VERSION:2.0
PRODID:-//The Nautilus Gym Douglas Isle of Man - ECPv6.8.1//NONSGML v1.0//EN
CALSCALE:GREGORIAN
METHOD:PUBLISH
X-ORIGINAL-URL:https://thenautilusgym.im
X-WR-CALDESC:Events for The Nautilus Gym Douglas Isle of Man
REFRESH-INTERVAL;VALUE=DURATION:PT1H
X-Robots-Tag:noindex
X-PUBLISHED-TTL:PT1H
BEGIN:VTIMEZONE
TZID:Europe/London
BEGIN:DAYLIGHT
TZOFFSETFROM:+0000
TZOFFSETTO:+0100
TZNAME:BST
DTSTART:20250330T010000
END:DAYLIGHT
BEGIN:STANDARD
TZOFFSETFROM:+0100
TZOFFSETTO:+0000
TZNAME:GMT
DTSTART:20251026T010000
END:STANDARD
END:VTIMEZONE
BEGIN:VEVENT
DTSTART;TZID=Europe/London:20250321T093000
DTEND;TZID=Europe/London:20250321T101500
DTSTAMP:20260420T015221
CREATED:20250302T095404Z
LAST-MODIFIED:20250302T095404Z
UID:7458-1742549400-1742552100@thenautilusgym.im
SUMMARY:FITNESS PILATES with Paula
DESCRIPTION:FITNESS PILATES – REFINE & RECHARGE \nFitness Pilates is a group exercise class that focuses on the body as a human kinetic chain. By applying the fundamental Pilates technique and exercises. \nThe class starts standing and then we make our way to the floor. \nAims of the class: \nIncrease muscular balance and strength. \nImprove clients posture. \nFacilitate the clients’ ability to optimally function occupationally and recreationally. \nImprove core strength. \nImprove mental cognition. \nSuitable for any level of fitness as the exercises can be adapted to your level. Also a great class to add on to your exercise repertoire. \nGreat for those who don’t want high impact exercise! \nBlock booking available- £25 \nPAYG – £6.50 \nTo book this class please contact ABC Fitness on 404267 or email abcfitnessiom@gmail.com \nABC Fitness | Douglas Isle Of Man | Facebook
URL:https://thenautilusgym.im/classes/fitness-pilates-with-paula-8/
END:VEVENT
END:VCALENDAR