BEGIN:VCALENDAR
VERSION:2.0
PRODID:-//The Nautilus Gym Douglas Isle of Man - ECPv6.8.1//NONSGML v1.0//EN
CALSCALE:GREGORIAN
METHOD:PUBLISH
X-WR-CALNAME:The Nautilus Gym Douglas Isle of Man
X-ORIGINAL-URL:https://thenautilusgym.im
X-WR-CALDESC:Events for The Nautilus Gym Douglas Isle of Man
REFRESH-INTERVAL;VALUE=DURATION:PT1H
X-Robots-Tag:noindex
X-PUBLISHED-TTL:PT1H
BEGIN:VTIMEZONE
TZID:Europe/London
BEGIN:DAYLIGHT
TZOFFSETFROM:+0000
TZOFFSETTO:+0100
TZNAME:BST
DTSTART:20250330T010000
END:DAYLIGHT
BEGIN:STANDARD
TZOFFSETFROM:+0100
TZOFFSETTO:+0000
TZNAME:GMT
DTSTART:20251026T010000
END:STANDARD
END:VTIMEZONE
BEGIN:VEVENT
DTSTART;TZID=Europe/London:20250312T060000
DTEND;TZID=Europe/London:20250312T063000
DTSTAMP:20260420T003158
CREATED:20250302T091839Z
LAST-MODIFIED:20250302T091839Z
UID:7408-1741759200-1741761000@thenautilusgym.im
SUMMARY:*CIRCUITS with Amy
DESCRIPTION:
URL:https://thenautilusgym.im/classes/circuits-with-amy-2/
END:VEVENT
BEGIN:VEVENT
DTSTART;TZID=Europe/London:20250312T173000
DTEND;TZID=Europe/London:20250312T181500
DTSTAMP:20260420T003158
CREATED:20250302T093325Z
LAST-MODIFIED:20250302T093325Z
UID:7417-1741800600-1741803300@thenautilusgym.im
SUMMARY:*POWERSTEP with Amy
DESCRIPTION:POWERSTEP WITH AMY – Wednesdays 5.30pm \nGet your heart and lungs in shape and tone your lower body during this classic choreographed class. Terrific cross-training for runners\, cyclists and walkers. \nIt’s a classic cardio workout\, it’s lasted decades for a simple reason – it delivers results \n\nStarting Wednesday 8th January at The Nautilus Gym\n\n\n£25 for the 4 week block or £6.50 PAYG\n\nTo book this class please contact ABC Fitness on 404267 or email abcfitnessiom@gmail.com \nABC Fitness | Douglas Isle Of Man | Facebook
URL:https://thenautilusgym.im/classes/powerstep-with-amy-3/
END:VEVENT
BEGIN:VEVENT
DTSTART;TZID=Europe/London:20250312T190000
DTEND;TZID=Europe/London:20250312T200000
DTSTAMP:20260420T003158
CREATED:20250302T093701Z
LAST-MODIFIED:20250302T093701Z
UID:7424-1741806000-1741809600@thenautilusgym.im
SUMMARY:*Filipino Martial Arts with Ean
DESCRIPTION:ATP IOM \nTO BOOK: 385205
URL:https://thenautilusgym.im/classes/filipino-martial-arts-with-ean-13/
END:VEVENT
END:VCALENDAR