BEGIN:VCALENDAR
VERSION:2.0
PRODID:-//The Nautilus Gym Douglas Isle of Man - ECPv6.8.1//NONSGML v1.0//EN
CALSCALE:GREGORIAN
METHOD:PUBLISH
X-WR-CALNAME:The Nautilus Gym Douglas Isle of Man
X-ORIGINAL-URL:https://thenautilusgym.im
X-WR-CALDESC:Events for The Nautilus Gym Douglas Isle of Man
REFRESH-INTERVAL;VALUE=DURATION:PT1H
X-Robots-Tag:noindex
X-PUBLISHED-TTL:PT1H
BEGIN:VTIMEZONE
TZID:Europe/London
BEGIN:DAYLIGHT
TZOFFSETFROM:+0000
TZOFFSETTO:+0100
TZNAME:BST
DTSTART:20250330T010000
END:DAYLIGHT
BEGIN:STANDARD
TZOFFSETFROM:+0100
TZOFFSETTO:+0000
TZNAME:GMT
DTSTART:20251026T010000
END:STANDARD
END:VTIMEZONE
BEGIN:VEVENT
DTSTART;TZID=Europe/London:20250201T080000
DTEND;TZID=Europe/London:20250201T090000
DTSTAMP:20260419T211240
CREATED:20250125T095545Z
LAST-MODIFIED:20250125T095545Z
UID:7224-1738396800-1738400400@thenautilusgym.im
SUMMARY:METAFIT with Amy
DESCRIPTION:Metafit is a style of HIIT and is designed to boost your fitness\, rocket your energy levels & get massive results in the shortest amount of time possible \nTo book this class please contact ABC Fitness on 404267 or email abcfitnessiom@gmail.com \nABC Fitness | Douglas Isle Of Man | Facebook
URL:https://thenautilusgym.im/classes/metafit-with-amy-49/
END:VEVENT
BEGIN:VEVENT
DTSTART;TZID=Europe/London:20250201T090000
DTEND;TZID=Europe/London:20250201T095000
DTSTAMP:20260419T211241
CREATED:20250125T095727Z
LAST-MODIFIED:20250125T095727Z
UID:7226-1738400400-1738403400@thenautilusgym.im
SUMMARY:LIFT FOR LIFE with Amy
DESCRIPTION:LIFT FOR LIFE- Functional movements based around everyday movements:\nPush\nPull\nLift\nSquat\nLunges\nBalance\nFlexibility\nMobility\n\n\n\nWe also offer block bookings on all of our classes!\n\n\nPM for more information \n\nTo book this class please contact ABC Fitness on 404267 or email abcfitnessiom@gmail.com \nABC Fitness | Douglas Isle Of Man | Facebook
URL:https://thenautilusgym.im/classes/lift-for-life-with-amy/
END:VEVENT
BEGIN:VEVENT
DTSTART;TZID=Europe/London:20250201T133000
DTEND;TZID=Europe/London:20250201T143000
DTSTAMP:20260419T211241
CREATED:20250125T100243Z
LAST-MODIFIED:20250125T100243Z
UID:7228-1738416600-1738420200@thenautilusgym.im
SUMMARY:Filipino Martial Arts with Ean
DESCRIPTION:ATP IOM \nTO BOOK: 385205
URL:https://thenautilusgym.im/classes/filipino-martial-arts-with-ean-8/
END:VEVENT
END:VCALENDAR