BEGIN:VCALENDAR
VERSION:2.0
PRODID:-//The Nautilus Gym Douglas Isle of Man - ECPv6.8.1//NONSGML v1.0//EN
CALSCALE:GREGORIAN
METHOD:PUBLISH
X-ORIGINAL-URL:https://thenautilusgym.im
X-WR-CALDESC:Events for The Nautilus Gym Douglas Isle of Man
REFRESH-INTERVAL;VALUE=DURATION:PT1H
X-Robots-Tag:noindex
X-PUBLISHED-TTL:PT1H
BEGIN:VTIMEZONE
TZID:Europe/London
BEGIN:DAYLIGHT
TZOFFSETFROM:+0000
TZOFFSETTO:+0100
TZNAME:BST
DTSTART:20250330T010000
END:DAYLIGHT
BEGIN:STANDARD
TZOFFSETFROM:+0100
TZOFFSETTO:+0000
TZNAME:GMT
DTSTART:20251026T010000
END:STANDARD
END:VTIMEZONE
BEGIN:VEVENT
DTSTART;TZID=Europe/London:20250125T083000
DTEND;TZID=Europe/London:20250125T090000
DTSTAMP:20260419T211348
CREATED:20250105T105751Z
LAST-MODIFIED:20250105T105751Z
UID:7160-1737793800-1737795600@thenautilusgym.im
SUMMARY:METAPOWER with Amy
DESCRIPTION:Metafit is a style of HIIT and is designed to boost your fitness\, rocket your energy levels & get massive results in the shortest amount of time possible \nTo book this class please contact ABC Fitness on 404267 or email abcfitnessiom@gmail.com \nABC Fitness | Douglas Isle Of Man | Facebook
URL:https://thenautilusgym.im/classes/metapower-with-amy-17/
END:VEVENT
BEGIN:VEVENT
DTSTART;TZID=Europe/London:20250125T090000
DTEND;TZID=Europe/London:20250125T095000
DTSTAMP:20260419T211348
CREATED:20250105T110127Z
LAST-MODIFIED:20250105T110127Z
UID:7167-1737795600-1737798600@thenautilusgym.im
SUMMARY:*LIFT FOUNDATIONS with Amy
DESCRIPTION:To book this class please contact ABC Fitness on 404267 or email abcfitnessiom@gmail.com \nABC Fitness | Douglas Isle Of Man | Facebook
URL:https://thenautilusgym.im/classes/lift-foundations-with-amy-3/
END:VEVENT
BEGIN:VEVENT
DTSTART;TZID=Europe/London:20250125T133000
DTEND;TZID=Europe/London:20250125T143000
DTSTAMP:20260419T211348
CREATED:20250105T110246Z
LAST-MODIFIED:20250105T110246Z
UID:7171-1737811800-1737815400@thenautilusgym.im
SUMMARY:*Filipino Martial Arts with Ean
DESCRIPTION:ATP IOM \nTO BOOK: 385205
URL:https://thenautilusgym.im/classes/filipino-martial-arts-with-ean-5/
END:VEVENT
END:VCALENDAR