BEGIN:VCALENDAR
VERSION:2.0
PRODID:-//The Nautilus Gym Douglas Isle of Man - ECPv6.8.1//NONSGML v1.0//EN
CALSCALE:GREGORIAN
METHOD:PUBLISH
X-ORIGINAL-URL:https://thenautilusgym.im
X-WR-CALDESC:Events for The Nautilus Gym Douglas Isle of Man
REFRESH-INTERVAL;VALUE=DURATION:PT1H
X-Robots-Tag:noindex
X-PUBLISHED-TTL:PT1H
BEGIN:VTIMEZONE
TZID:Europe/London
BEGIN:DAYLIGHT
TZOFFSETFROM:+0000
TZOFFSETTO:+0100
TZNAME:BST
DTSTART:20250330T010000
END:DAYLIGHT
BEGIN:STANDARD
TZOFFSETFROM:+0100
TZOFFSETTO:+0000
TZNAME:GMT
DTSTART:20251026T010000
END:STANDARD
END:VTIMEZONE
BEGIN:VEVENT
DTSTART;TZID=Europe/London:20250124T093000
DTEND;TZID=Europe/London:20250124T101500
DTSTAMP:20260419T211348
CREATED:20250105T105514Z
LAST-MODIFIED:20250105T105514Z
UID:7151-1737711000-1737713700@thenautilusgym.im
SUMMARY:*FITNESS PILATES with Paula
DESCRIPTION:To book this class please contact ABC Fitness on 404267 or email abcfitnessiom@gmail.com \nABC Fitness | Douglas Isle Of Man | Facebook
URL:https://thenautilusgym.im/classes/fitness-pilates-with-paula-2/
END:VEVENT
END:VCALENDAR