BEGIN:VCALENDAR
VERSION:2.0
PRODID:-//The Nautilus Gym Douglas Isle of Man - ECPv6.8.1//NONSGML v1.0//EN
CALSCALE:GREGORIAN
METHOD:PUBLISH
X-ORIGINAL-URL:https://thenautilusgym.im
X-WR-CALDESC:Events for The Nautilus Gym Douglas Isle of Man
REFRESH-INTERVAL;VALUE=DURATION:PT1H
X-Robots-Tag:noindex
X-PUBLISHED-TTL:PT1H
BEGIN:VTIMEZONE
TZID:Europe/London
BEGIN:DAYLIGHT
TZOFFSETFROM:+0000
TZOFFSETTO:+0100
TZNAME:BST
DTSTART:20250330T010000
END:DAYLIGHT
BEGIN:STANDARD
TZOFFSETFROM:+0100
TZOFFSETTO:+0000
TZNAME:GMT
DTSTART:20251026T010000
END:STANDARD
END:VTIMEZONE
BEGIN:VEVENT
DTSTART;TZID=Europe/London:20250121T060000
DTEND;TZID=Europe/London:20250121T063000
DTSTAMP:20260419T211346
CREATED:20250105T091657Z
LAST-MODIFIED:20250105T091657Z
UID:7068-1737439200-1737441000@thenautilusgym.im
SUMMARY:*HIITCARDIO with Amy
DESCRIPTION:
URL:https://thenautilusgym.im/classes/hiitcardio-with-amy-32/
END:VEVENT
BEGIN:VEVENT
DTSTART;TZID=Europe/London:20250121T063000
DTEND;TZID=Europe/London:20250121T070000
DTSTAMP:20260419T211346
CREATED:20250105T093803Z
LAST-MODIFIED:20250105T093803Z
UID:7077-1737441000-1737442800@thenautilusgym.im
SUMMARY:HIITSTEP with Amy
DESCRIPTION:HIITSTEP is a New and innovative 30 min HIIT exercise class using body weight and a STEP. \nTo book this class please contact ABC Fitness on 404267 or email abcfitnessiom@gmail.com \nABC Fitness | Douglas Isle Of Man | Facebook
URL:https://thenautilusgym.im/classes/hiitstep-with-amy-130/
END:VEVENT
BEGIN:VEVENT
DTSTART;TZID=Europe/London:20250121T173000
DTEND;TZID=Europe/London:20250121T181500
DTSTAMP:20260419T211346
CREATED:20250105T094134Z
LAST-MODIFIED:20250105T094145Z
UID:7085-1737480600-1737483300@thenautilusgym.im
SUMMARY:*STRONG FOUNDATIONS with Paula
DESCRIPTION:ABC Fitness
URL:https://thenautilusgym.im/classes/strong-foundations-with-paula-2/
END:VEVENT
END:VCALENDAR