BEGIN:VCALENDAR
VERSION:2.0
PRODID:-//The Nautilus Gym Douglas Isle of Man - ECPv6.8.1//NONSGML v1.0//EN
CALSCALE:GREGORIAN
METHOD:PUBLISH
X-ORIGINAL-URL:https://thenautilusgym.im
X-WR-CALDESC:Events for The Nautilus Gym Douglas Isle of Man
REFRESH-INTERVAL;VALUE=DURATION:PT1H
X-Robots-Tag:noindex
X-PUBLISHED-TTL:PT1H
BEGIN:VTIMEZONE
TZID:Europe/London
BEGIN:DAYLIGHT
TZOFFSETFROM:+0000
TZOFFSETTO:+0100
TZNAME:BST
DTSTART:20250330T010000
END:DAYLIGHT
BEGIN:STANDARD
TZOFFSETFROM:+0100
TZOFFSETTO:+0000
TZNAME:GMT
DTSTART:20251026T010000
END:STANDARD
END:VTIMEZONE
BEGIN:VEVENT
DTSTART;TZID=Europe/London:20250108T060000
DTEND;TZID=Europe/London:20250108T063000
DTSTAMP:20260419T211249
CREATED:20250105T094827Z
LAST-MODIFIED:20250105T094929Z
UID:7092-1736316000-1736317800@thenautilusgym.im
SUMMARY:METAPOWER with Amy
DESCRIPTION:Metafit is a style of HIIT and is designed to boost your fitness\, rocket your energy levels & get massive results in the shortest amount of time possible \nTo book this class please contact ABC Fitness on 404267 or email abcfitnessiom@gmail.com \nABC Fitness | Douglas Isle Of Man | Facebook
URL:https://thenautilusgym.im/classes/metapower-with-amy-13/
END:VEVENT
BEGIN:VEVENT
DTSTART;TZID=Europe/London:20250108T173000
DTEND;TZID=Europe/London:20250108T181500
DTSTAMP:20260419T211249
CREATED:20250105T100201Z
LAST-MODIFIED:20250105T100201Z
UID:7101-1736357400-1736360100@thenautilusgym.im
SUMMARY:*STEP with Amy
DESCRIPTION:ABC Fitness
URL:https://thenautilusgym.im/classes/step-with-amy-4/
END:VEVENT
BEGIN:VEVENT
DTSTART;TZID=Europe/London:20250108T190000
DTEND;TZID=Europe/London:20250108T200000
DTSTAMP:20260419T211249
CREATED:20250105T100519Z
LAST-MODIFIED:20250105T100708Z
UID:7109-1736362800-1736366400@thenautilusgym.im
SUMMARY:*Filipino Martial Arts with Ean
DESCRIPTION:ATP IOM \nTO BOOK: 385205
URL:https://thenautilusgym.im/classes/filipino-martial-arts-with-ean-4/
END:VEVENT
END:VCALENDAR