BEGIN:VCALENDAR
VERSION:2.0
PRODID:-//The Nautilus Gym Douglas Isle of Man - ECPv6.8.1//NONSGML v1.0//EN
CALSCALE:GREGORIAN
METHOD:PUBLISH
X-ORIGINAL-URL:https://thenautilusgym.im
X-WR-CALDESC:Events for The Nautilus Gym Douglas Isle of Man
REFRESH-INTERVAL;VALUE=DURATION:PT1H
X-Robots-Tag:noindex
X-PUBLISHED-TTL:PT1H
BEGIN:VTIMEZONE
TZID:Europe/London
BEGIN:DAYLIGHT
TZOFFSETFROM:+0000
TZOFFSETTO:+0100
TZNAME:BST
DTSTART:20250330T010000
END:DAYLIGHT
BEGIN:STANDARD
TZOFFSETFROM:+0100
TZOFFSETTO:+0000
TZNAME:GMT
DTSTART:20251026T010000
END:STANDARD
END:VTIMEZONE
BEGIN:VEVENT
DTSTART;TZID=Europe/London:20250107T060000
DTEND;TZID=Europe/London:20250107T063000
DTSTAMP:20260419T211250
CREATED:20250105T091738Z
LAST-MODIFIED:20250105T091738Z
UID:7070-1736229600-1736231400@thenautilusgym.im
SUMMARY:*HIITCARDIO with Amy
DESCRIPTION:
URL:https://thenautilusgym.im/classes/hiitcardio-with-amy-34/
END:VEVENT
BEGIN:VEVENT
DTSTART;TZID=Europe/London:20250107T063000
DTEND;TZID=Europe/London:20250107T070000
DTSTAMP:20260419T211250
CREATED:20250105T093840Z
LAST-MODIFIED:20250105T093840Z
UID:7075-1736231400-1736233200@thenautilusgym.im
SUMMARY:HIITSTEP with Amy
DESCRIPTION:HIITSTEP is a New and innovative 30 min HIIT exercise class using body weight and a STEP. \nTo book this class please contact ABC Fitness on 404267 or email abcfitnessiom@gmail.com \nABC Fitness | Douglas Isle Of Man | Facebook
URL:https://thenautilusgym.im/classes/hiitstep-with-amy-132/
END:VEVENT
BEGIN:VEVENT
DTSTART;TZID=Europe/London:20250107T173000
DTEND;TZID=Europe/London:20250107T181500
DTSTAMP:20260419T211250
CREATED:20250105T094242Z
LAST-MODIFIED:20250105T094242Z
UID:7083-1736271000-1736273700@thenautilusgym.im
SUMMARY:*STRONG FOUNDATIONS with Paula
DESCRIPTION:ABC Fitness
URL:https://thenautilusgym.im/classes/strong-foundations-with-paula-4/
END:VEVENT
END:VCALENDAR