BEGIN:VCALENDAR
VERSION:2.0
PRODID:-//The Nautilus Gym Douglas Isle of Man - ECPv6.8.1//NONSGML v1.0//EN
CALSCALE:GREGORIAN
METHOD:PUBLISH
X-WR-CALNAME:The Nautilus Gym Douglas Isle of Man
X-ORIGINAL-URL:https://thenautilusgym.im
X-WR-CALDESC:Events for The Nautilus Gym Douglas Isle of Man
REFRESH-INTERVAL;VALUE=DURATION:PT1H
X-Robots-Tag:noindex
X-PUBLISHED-TTL:PT1H
BEGIN:VTIMEZONE
TZID:Europe/London
BEGIN:DAYLIGHT
TZOFFSETFROM:+0000
TZOFFSETTO:+0100
TZNAME:BST
DTSTART:20240331T010000
END:DAYLIGHT
BEGIN:STANDARD
TZOFFSETFROM:+0100
TZOFFSETTO:+0000
TZNAME:GMT
DTSTART:20241027T010000
END:STANDARD
END:VTIMEZONE
BEGIN:VEVENT
DTSTART;TZID=Europe/London:20241122T093000
DTEND;TZID=Europe/London:20241122T101500
DTSTAMP:20260420T014929
CREATED:20241109T093025Z
LAST-MODIFIED:20241109T093025Z
UID:6883-1732267800-1732270500@thenautilusgym.im
SUMMARY:AEROFUSION (with Paula)
DESCRIPTION:A low impact class fusing together low impact aerobics with muscle strengthening exercises using lighter weights\, bands and a step. \nWeek 1 – Aerofusion with smaller dumbbells \nWeek 2 – Aerofusion using long bands and loop bands \nWeek 3 – Aerofusion using the step \nAdding cardio exercise and weights to your exercise regime is essential at any age but more so as you get older as you will reap the benefits as you age. \nAlso exercising with a lovely group of like minded individuals helps with those social interactions to be able to connect and make new friendships \nTo book this class please contact ABC Fitness on 439459 or email abcfitnessiom@gmail.com \nABC Fitness | Douglas Isle Of Man | Facebook \n \n 
URL:https://thenautilusgym.im/classes/aerofusion-with-paula-7/
END:VEVENT
END:VCALENDAR