BEGIN:VCALENDAR
VERSION:2.0
PRODID:-//The Nautilus Gym Douglas Isle of Man - ECPv6.8.1//NONSGML v1.0//EN
CALSCALE:GREGORIAN
METHOD:PUBLISH
X-ORIGINAL-URL:https://thenautilusgym.im
X-WR-CALDESC:Events for The Nautilus Gym Douglas Isle of Man
REFRESH-INTERVAL;VALUE=DURATION:PT1H
X-Robots-Tag:noindex
X-PUBLISHED-TTL:PT1H
BEGIN:VTIMEZONE
TZID:Europe/London
BEGIN:DAYLIGHT
TZOFFSETFROM:+0000
TZOFFSETTO:+0100
TZNAME:BST
DTSTART:20240331T010000
END:DAYLIGHT
BEGIN:STANDARD
TZOFFSETFROM:+0100
TZOFFSETTO:+0000
TZNAME:GMT
DTSTART:20241027T010000
END:STANDARD
END:VTIMEZONE
BEGIN:VEVENT
DTSTART;TZID=Europe/London:20241113T060000
DTEND;TZID=Europe/London:20241113T063000
DTSTAMP:20260420T003322
CREATED:20241101T171900Z
LAST-MODIFIED:20241101T171900Z
UID:6851-1731477600-1731479400@thenautilusgym.im
SUMMARY:Metapower (with Amy)
DESCRIPTION:Metafit is a style of HIIT and is designed to boost your fitness\, rocket your energy levels & get massive results in the shortest amount of time possible \nTo book this class please contact ABC Fitness on 404267 or email abcfitnessiom@gmail.com \nABC Fitness | Douglas Isle Of Man | Facebook
URL:https://thenautilusgym.im/classes/metapower-with-amy-6/
END:VEVENT
BEGIN:VEVENT
DTSTART;TZID=Europe/London:20241113T173000
DTEND;TZID=Europe/London:20241113T181500
DTSTAMP:20260420T003322
CREATED:20241109T090906Z
LAST-MODIFIED:20241109T090906Z
UID:6871-1731519000-1731521700@thenautilusgym.im
SUMMARY:Christmas Shred (with Amy)
DESCRIPTION:To book this class please contact ABC Fitness on 404267 or email abcfitnessiom@gmail.com \nABC Fitness | Douglas Isle Of Man | Facebook \n 
URL:https://thenautilusgym.im/classes/christmas-shred-with-amy/
END:VEVENT
BEGIN:VEVENT
DTSTART;TZID=Europe/London:20241113T190000
DTEND;TZID=Europe/London:20241113T200000
DTSTAMP:20260420T003322
CREATED:20241101T172100Z
LAST-MODIFIED:20241101T172100Z
UID:6855-1731524400-1731528000@thenautilusgym.im
SUMMARY:Filipino Martial Arts Beginner Course (with ATP IOM)
DESCRIPTION:This is a 10 week course for absolute beginners in Filipino Martial Arts from Abaniko Tres Puntas IOM \nIf you would like to book for this class\, please contact Ean Radcliffe on 385205
URL:https://thenautilusgym.im/classes/filipino-martial-arts-beginner-course-with-atp-iom-128/
END:VEVENT
END:VCALENDAR