BEGIN:VCALENDAR
VERSION:2.0
PRODID:-//The Nautilus Gym Douglas Isle of Man - ECPv6.8.1//NONSGML v1.0//EN
CALSCALE:GREGORIAN
METHOD:PUBLISH
X-WR-CALNAME:The Nautilus Gym Douglas Isle of Man
X-ORIGINAL-URL:https://thenautilusgym.im
X-WR-CALDESC:Events for The Nautilus Gym Douglas Isle of Man
REFRESH-INTERVAL;VALUE=DURATION:PT1H
X-Robots-Tag:noindex
X-PUBLISHED-TTL:PT1H
BEGIN:VTIMEZONE
TZID:Europe/London
BEGIN:DAYLIGHT
TZOFFSETFROM:+0000
TZOFFSETTO:+0100
TZNAME:BST
DTSTART:20240331T010000
END:DAYLIGHT
BEGIN:STANDARD
TZOFFSETFROM:+0100
TZOFFSETTO:+0000
TZNAME:GMT
DTSTART:20241027T010000
END:STANDARD
END:VTIMEZONE
BEGIN:VEVENT
DTSTART;TZID=Europe/London:20241022T060000
DTEND;TZID=Europe/London:20241022T063000
DTSTAMP:20260420T014929
CREATED:20241006T094438Z
LAST-MODIFIED:20241006T094438Z
UID:6746-1729576800-1729578600@thenautilusgym.im
SUMMARY:HIITSTEP (with Amy)
DESCRIPTION:HIITSTEP is a New and innovative 30 min HIIT exercise class using body weight and a STEP. \nTo book this class please contact ABC Fitness on 404267 or email abcfitnessiom@gmail.com \nABC Fitness | Douglas Isle Of Man | Facebook
URL:https://thenautilusgym.im/classes/hiitstep-with-amy-119/
END:VEVENT
BEGIN:VEVENT
DTSTART;TZID=Europe/London:20241022T173000
DTEND;TZID=Europe/London:20241022T181500
DTSTAMP:20260420T014929
CREATED:20241006T094045Z
LAST-MODIFIED:20241006T094045Z
UID:6740-1729618200-1729620900@thenautilusgym.im
SUMMARY:KETTLE POWER (with Paula)
DESCRIPTION:Kettle Power – is a great full body conditioning class. Kettlebell exercises get your heart rate up in a whole different way than cardio.  Not only that\, these movements challenge  almost every muscle in your body. \nTo book this class please contact ABC Fitness on 439459 or email abcfitnessiom@gmail.com \nABC Fitness | Douglas Isle Of Man | Facebook
URL:https://thenautilusgym.im/classes/kettle-power-with-paula-2/
END:VEVENT
END:VCALENDAR