BEGIN:VCALENDAR
VERSION:2.0
PRODID:-//The Nautilus Gym Douglas Isle of Man - ECPv6.8.1//NONSGML v1.0//EN
CALSCALE:GREGORIAN
METHOD:PUBLISH
X-ORIGINAL-URL:https://thenautilusgym.im
X-WR-CALDESC:Events for The Nautilus Gym Douglas Isle of Man
REFRESH-INTERVAL;VALUE=DURATION:PT1H
X-Robots-Tag:noindex
X-PUBLISHED-TTL:PT1H
BEGIN:VTIMEZONE
TZID:Europe/London
BEGIN:DAYLIGHT
TZOFFSETFROM:+0000
TZOFFSETTO:+0100
TZNAME:BST
DTSTART:20240331T010000
END:DAYLIGHT
BEGIN:STANDARD
TZOFFSETFROM:+0100
TZOFFSETTO:+0000
TZNAME:GMT
DTSTART:20241027T010000
END:STANDARD
END:VTIMEZONE
BEGIN:VEVENT
DTSTART;TZID=Europe/London:20241002T173000
DTEND;TZID=Europe/London:20241002T181500
DTSTAMP:20260420T032519
CREATED:20240922T091922Z
LAST-MODIFIED:20240922T091922Z
UID:6659-1727890200-1727892900@thenautilusgym.im
SUMMARY:SHRED (with Amy)
DESCRIPTION:To book this class please contact ABC Fitness on 489409 or email abcfitnessiom@gmail.com \nABC Fitness | Douglas Isle Of Man | Facebook
URL:https://thenautilusgym.im/classes/shred-with-amy-5/
END:VEVENT
BEGIN:VEVENT
DTSTART;TZID=Europe/London:20241002T190000
DTEND;TZID=Europe/London:20241002T200000
DTSTAMP:20260420T032519
CREATED:20240922T092055Z
LAST-MODIFIED:20240922T092055Z
UID:6662-1727895600-1727899200@thenautilusgym.im
SUMMARY:Filipino Martial Arts Beginner Course (with ATP IOM)
DESCRIPTION:This is a 10 week course for absolute beginners in Filipino Martial Arts from Abaniko Tres Puntas IOM \nIf you would like to book for this class\, please contact Ean Radcliffe on 385205
URL:https://thenautilusgym.im/classes/filipino-martial-arts-beginner-course-with-atp-iom-114/
END:VEVENT
END:VCALENDAR