BEGIN:VCALENDAR
VERSION:2.0
PRODID:-//The Nautilus Gym Douglas Isle of Man - ECPv6.8.1//NONSGML v1.0//EN
CALSCALE:GREGORIAN
METHOD:PUBLISH
X-WR-CALNAME:The Nautilus Gym Douglas Isle of Man
X-ORIGINAL-URL:https://thenautilusgym.im
X-WR-CALDESC:Events for The Nautilus Gym Douglas Isle of Man
REFRESH-INTERVAL;VALUE=DURATION:PT1H
X-Robots-Tag:noindex
X-PUBLISHED-TTL:PT1H
BEGIN:VTIMEZONE
TZID:Europe/London
BEGIN:DAYLIGHT
TZOFFSETFROM:+0000
TZOFFSETTO:+0100
TZNAME:BST
DTSTART:20240331T010000
END:DAYLIGHT
BEGIN:STANDARD
TZOFFSETFROM:+0100
TZOFFSETTO:+0000
TZNAME:GMT
DTSTART:20241027T010000
END:STANDARD
END:VTIMEZONE
BEGIN:VEVENT
DTSTART;TZID=Europe/London:20240917T060000
DTEND;TZID=Europe/London:20240917T063000
DTSTAMP:20260420T032254
CREATED:20240908T075852Z
LAST-MODIFIED:20240908T075852Z
UID:6621-1726552800-1726554600@thenautilusgym.im
SUMMARY:HIITCIRCUIT (with Amy)
DESCRIPTION:HIITCIRCUIT is a 30-minute super intense HIIT workout\, designed to build muscle\, increase power and burn hundreds of calories. This workout uses a barbell\, weight plate\, step and bodyweight exercises to provide you with the all round ultimate workout. \nTo book this class please contact ABC Fitness on 489409 or email abcfitnessiom@gmail.com \nABC Fitness | Douglas Isle Of Man | Facebook
URL:https://thenautilusgym.im/classes/hiitcircuit-with-amy-27/
END:VEVENT
BEGIN:VEVENT
DTSTART;TZID=Europe/London:20240917T180000
DTEND;TZID=Europe/London:20240917T181500
DTSTAMP:20260420T032254
CREATED:20240908T075943Z
LAST-MODIFIED:20240908T075943Z
UID:6623-1726596000-1726596900@thenautilusgym.im
SUMMARY:KETTLE POWER (ABC Fitness)
DESCRIPTION:Kettle Power – is a great full body conditioning class. Kettlebell exercises get your heart rate up in a whole different way than cardio.  Not only that\, these movements challenge  almost every muscle in your body. \nTo book this class please contact ABC Fitness on 489409 or email abcfitnessiom@gmail.com \nABC Fitness | Douglas Isle Of Man | Facebook
URL:https://thenautilusgym.im/classes/kettle-power-abc-fitness-15/
END:VEVENT
END:VCALENDAR