BEGIN:VCALENDAR
VERSION:2.0
PRODID:-//The Nautilus Gym Douglas Isle of Man - ECPv6.8.1//NONSGML v1.0//EN
CALSCALE:GREGORIAN
METHOD:PUBLISH
X-ORIGINAL-URL:https://thenautilusgym.im
X-WR-CALDESC:Events for The Nautilus Gym Douglas Isle of Man
REFRESH-INTERVAL;VALUE=DURATION:PT1H
X-Robots-Tag:noindex
X-PUBLISHED-TTL:PT1H
BEGIN:VTIMEZONE
TZID:Europe/London
BEGIN:DAYLIGHT
TZOFFSETFROM:+0000
TZOFFSETTO:+0100
TZNAME:BST
DTSTART:20240331T010000
END:DAYLIGHT
BEGIN:STANDARD
TZOFFSETFROM:+0100
TZOFFSETTO:+0000
TZNAME:GMT
DTSTART:20241027T010000
END:STANDARD
END:VTIMEZONE
BEGIN:VEVENT
DTSTART;TZID=Europe/London:20240718T060000
DTEND;TZID=Europe/London:20240718T063000
DTSTAMP:20260420T075941
CREATED:20240708T174108Z
LAST-MODIFIED:20240708T174108Z
UID:6442-1721282400-1721284200@thenautilusgym.im
SUMMARY:HIITCARDIO (with Amy)
DESCRIPTION:HIIT meaning High-intensity interval training is a class that alternates short periods of intense or explosive anaerobic exercise with brief recovery periods. \nHIIT training not only increases your metabolism during the workout\, but it stays elevated after the workout is complete\, meaning your body is burning more calories at rest. \nTo book this class please contact Abc Fitness on 489409 or email abcfitnessiom@gmail.com \nABC Fitness | Douglas Isle Of Man | Facebook
URL:https://thenautilusgym.im/classes/hiitcardio-with-amy-18/
END:VEVENT
BEGIN:VEVENT
DTSTART;TZID=Europe/London:20240718T173000
DTEND;TZID=Europe/London:20240718T181500
DTSTAMP:20260420T075941
CREATED:20240708T174222Z
LAST-MODIFIED:20240708T174222Z
UID:6444-1721323800-1721326500@thenautilusgym.im
SUMMARY:TOTAL BODY RESET (ABC Fitness)
DESCRIPTION:A class focusing on mobility\, flexibility\, strength and low impact cardio. We’ll move from upper to lower body then to core in this full body workout. \nA mix of exercises performed at different speeds moving through the bigger muscle groups and then using exercises to target the smaller muscle groups for an effective and challenging workout. \nThis class is a great place to start if you’re new to exercise or maybe a midlife woman looking to start or are getting back into exercise. \nIt ticks all the boxes: \nBone strengthening exercises \nMobilise stiff or sore joints \nBalance work and co-ordination to challenge the brain \nFlexibility as we work on range of motion as we perform the exercises \nA class focusing on mobility\, flexibility\, strength and low impact cardio. \nTo book this class please contact Abc Fitness on 489409 or email abcfitnessiom@gmail.com \nABC Fitness | Douglas Isle Of Man | Facebook
URL:https://thenautilusgym.im/classes/total-body-reset-abc-fitness-2/
END:VEVENT
END:VCALENDAR