BEGIN:VCALENDAR
VERSION:2.0
PRODID:-//The Nautilus Gym Douglas Isle of Man - ECPv6.8.1//NONSGML v1.0//EN
CALSCALE:GREGORIAN
METHOD:PUBLISH
X-WR-CALNAME:The Nautilus Gym Douglas Isle of Man
X-ORIGINAL-URL:https://thenautilusgym.im
X-WR-CALDESC:Events for The Nautilus Gym Douglas Isle of Man
REFRESH-INTERVAL;VALUE=DURATION:PT1H
X-Robots-Tag:noindex
X-PUBLISHED-TTL:PT1H
BEGIN:VTIMEZONE
TZID:Europe/London
BEGIN:DAYLIGHT
TZOFFSETFROM:+0000
TZOFFSETTO:+0100
TZNAME:BST
DTSTART:20240331T010000
END:DAYLIGHT
BEGIN:STANDARD
TZOFFSETFROM:+0100
TZOFFSETTO:+0000
TZNAME:GMT
DTSTART:20241027T010000
END:STANDARD
END:VTIMEZONE
BEGIN:VEVENT
DTSTART;TZID=Europe/London:20240615T083000
DTEND;TZID=Europe/London:20240615T090000
DTSTAMP:20260420T075816
CREATED:20240603T174446Z
LAST-MODIFIED:20240603T191339Z
UID:6363-1718440200-1718442000@thenautilusgym.im
SUMMARY:TABATA (ABC Fitness)
DESCRIPTION:20 Seconds work \n10 Seconds rest \n  \nTo book this class please contact Abc Fitness on 489409 or email abcfitnessiom@gmail.com \nABC Fitness | Douglas Isle Of Man | Facebook
URL:https://thenautilusgym.im/classes/tabata-abs-fitness/
END:VEVENT
BEGIN:VEVENT
DTSTART;TZID=Europe/London:20240615T133000
DTEND;TZID=Europe/London:20240615T143000
DTSTAMP:20260420T075816
CREATED:20240530T174753Z
LAST-MODIFIED:20240530T174806Z
UID:6343-1718458200-1718461800@thenautilusgym.im
SUMMARY:Filipino Martial Arts Beginner Course (with ATP IOM)
DESCRIPTION:This is a 10 week course for absolute beginners in Filipino Martial Arts from Abaniko Tres Puntas IOM \nIf you would like to book for this class\, please contact Ean Radcliffe on 385205
URL:https://thenautilusgym.im/classes/filipino-martial-arts-beginner-course-with-atp-iom-87/
END:VEVENT
END:VCALENDAR