BEGIN:VCALENDAR
VERSION:2.0
PRODID:-//The Nautilus Gym Douglas Isle of Man - ECPv6.8.1//NONSGML v1.0//EN
CALSCALE:GREGORIAN
METHOD:PUBLISH
X-ORIGINAL-URL:https://thenautilusgym.im
X-WR-CALDESC:Events for The Nautilus Gym Douglas Isle of Man
REFRESH-INTERVAL;VALUE=DURATION:PT1H
X-Robots-Tag:noindex
X-PUBLISHED-TTL:PT1H
BEGIN:VTIMEZONE
TZID:Europe/London
BEGIN:DAYLIGHT
TZOFFSETFROM:+0000
TZOFFSETTO:+0100
TZNAME:BST
DTSTART:20240331T010000
END:DAYLIGHT
BEGIN:STANDARD
TZOFFSETFROM:+0100
TZOFFSETTO:+0000
TZNAME:GMT
DTSTART:20241027T010000
END:STANDARD
END:VTIMEZONE
BEGIN:VEVENT
DTSTART;TZID=Europe/London:20240523T060000
DTEND;TZID=Europe/London:20240523T063000
DTSTAMP:20260420T151648
CREATED:20240516T191439Z
LAST-MODIFIED:20240516T191439Z
UID:6287-1716444000-1716445800@thenautilusgym.im
SUMMARY:HIITCARDIO (with Amy)
DESCRIPTION:HIIT meaning High-intensity interval training is a class that alternates short periods of intense or explosive anaerobic exercise with brief recovery periods. \nHIIT training not only increases your metabolism during the workout\, but it stays elevated after the workout is complete\, meaning your body is burning more calories at rest. \nTo book this class please contact Abc Fitness on 489409 or email abcfitnessiom@gmail.com \nABC Fitness | Douglas Isle Of Man | Facebook
URL:https://thenautilusgym.im/classes/hiitcardio-with-amy-10/
END:VEVENT
BEGIN:VEVENT
DTSTART;TZID=Europe/London:20240523T171500
DTEND;TZID=Europe/London:20240523T180000
DTSTAMP:20260420T151648
CREATED:20240513T172723Z
LAST-MODIFIED:20240513T193558Z
UID:6256-1716484500-1716487200@thenautilusgym.im
SUMMARY:POWER BANDS
DESCRIPTION:What are resistance bands?\nResistance bands add an extra challenge to body weight exercises\, but they don’t put the same sort of pressure on your joints that external weights do. They are also great for targeting smaller\, stabilizing muscles that you may not typically work.\n\n\nThe class will be a mix of aerobic exercises\, upper body and lower body strength exercises as well as mobility and flexibility work\, using long bands\, loop bands and the thicker activation bands.\n\n£24 block booked or £6\,50 payg\n\nTo book this class please contact Abc Fitness on 489409 or email abcfitnessiom@gmail.com \nABC Fitness | Douglas Isle Of Man | Facebook
URL:https://thenautilusgym.im/classes/power-bands-3/
END:VEVENT
END:VCALENDAR