BEGIN:VCALENDAR
VERSION:2.0
PRODID:-//The Nautilus Gym Douglas Isle of Man - ECPv6.8.1//NONSGML v1.0//EN
CALSCALE:GREGORIAN
METHOD:PUBLISH
X-WR-CALNAME:The Nautilus Gym Douglas Isle of Man
X-ORIGINAL-URL:https://thenautilusgym.im
X-WR-CALDESC:Events for The Nautilus Gym Douglas Isle of Man
REFRESH-INTERVAL;VALUE=DURATION:PT1H
X-Robots-Tag:noindex
X-PUBLISHED-TTL:PT1H
BEGIN:VTIMEZONE
TZID:Europe/London
BEGIN:DAYLIGHT
TZOFFSETFROM:+0000
TZOFFSETTO:+0100
TZNAME:BST
DTSTART:20240331T010000
END:DAYLIGHT
BEGIN:STANDARD
TZOFFSETFROM:+0100
TZOFFSETTO:+0000
TZNAME:GMT
DTSTART:20241027T010000
END:STANDARD
END:VTIMEZONE
BEGIN:VEVENT
DTSTART;TZID=Europe/London:20240522T173000
DTEND;TZID=Europe/London:20240522T181500
DTSTAMP:20260420T165257
CREATED:20240516T191236Z
LAST-MODIFIED:20240516T191236Z
UID:6283-1716399000-1716401700@thenautilusgym.im
SUMMARY:TOTAL BODY TONE (ABC Fitness)
DESCRIPTION:A class of varied intensity using a whole range of exercises and equipment to increase muscle tone and make you stronger. Total Body Tone is a conditioning class aimed at toning and shaping the whole body.\n\n\nIf you want a top-to-toe workout combining a mix of resistance and core exercises\, to some great music\, this is the class for you.\n\n£24 for 4 weeks or £6.50 PAYG\n\n\nTo book this class please contact Abc Fitness on 489409 or email abcfitnessiom@gmail.com \nABC Fitness | Douglas Isle Of Man | Facebook
URL:https://thenautilusgym.im/classes/total-body-tone-abc-fitness-3/
END:VEVENT
BEGIN:VEVENT
DTSTART;TZID=Europe/London:20240522T190000
DTEND;TZID=Europe/London:20240522T200000
DTSTAMP:20260420T165257
CREATED:20240516T191344Z
LAST-MODIFIED:20240516T191344Z
UID:6285-1716404400-1716408000@thenautilusgym.im
SUMMARY:Filipino Martial Arts Beginner Course (with ATP IOM)
DESCRIPTION:This is a 10 week course for absolute beginners in Filipino Martial Arts from Abaniko Tres Puntas IOM \nIf you would like to book for this class\, please contact Ean Radcliffe on 385205
URL:https://thenautilusgym.im/classes/filipino-martial-arts-beginner-course-with-atp-iom-79/
END:VEVENT
END:VCALENDAR