BEGIN:VCALENDAR
VERSION:2.0
PRODID:-//The Nautilus Gym Douglas Isle of Man - ECPv6.8.1//NONSGML v1.0//EN
CALSCALE:GREGORIAN
METHOD:PUBLISH
X-ORIGINAL-URL:https://thenautilusgym.im
X-WR-CALDESC:Events for The Nautilus Gym Douglas Isle of Man
REFRESH-INTERVAL;VALUE=DURATION:PT1H
X-Robots-Tag:noindex
X-PUBLISHED-TTL:PT1H
BEGIN:VTIMEZONE
TZID:Europe/London
BEGIN:DAYLIGHT
TZOFFSETFROM:+0000
TZOFFSETTO:+0100
TZNAME:BST
DTSTART:20240331T010000
END:DAYLIGHT
BEGIN:STANDARD
TZOFFSETFROM:+0100
TZOFFSETTO:+0000
TZNAME:GMT
DTSTART:20241027T010000
END:STANDARD
END:VTIMEZONE
BEGIN:VEVENT
DTSTART;TZID=Europe/London:20240514T060000
DTEND;TZID=Europe/London:20240514T063000
DTSTAMP:20260423T201201
CREATED:20240513T164026Z
LAST-MODIFIED:20240513T164026Z
UID:6242-1715666400-1715668200@thenautilusgym.im
SUMMARY:HIITCIRCUIT (with Amy)
DESCRIPTION:HIITCIRCUIT is a 30-minute super intense HIIT workout\, designed to build muscle\, increase power and burn hundreds of calories. This workout uses a barbell\, weight plate\, step and bodyweight exercises to provide you with the all round ultimate workout. \nTo book this class please contact Abc Fitness on 489409 or email abcfitnessiom@gmail.com \nABC Fitness | Douglas Isle Of Man | Facebook
URL:https://thenautilusgym.im/classes/hiitcircuit-with-amy-9/
END:VEVENT
BEGIN:VEVENT
DTSTART;TZID=Europe/London:20240514T173000
DTEND;TZID=Europe/London:20240514T181500
DTSTAMP:20260423T201201
CREATED:20240513T171142Z
LAST-MODIFIED:20240513T171142Z
UID:6244-1715707800-1715710500@thenautilusgym.im
SUMMARY:Strong & Lean (with Paula)
DESCRIPTION:STRONG AND LEAN is a weights based session for Women to improve strength\, retain muscle mass and improve overall bone strength. \nTo book this class please contact Abc Fitness on 489409 or email abcfitnessiom@gmail.com \nABC Fitness | Douglas Isle Of Man | Facebook
URL:https://thenautilusgym.im/classes/strong-lean-with-paula-34/
END:VEVENT
END:VCALENDAR