BEGIN:VCALENDAR
VERSION:2.0
PRODID:-//The Nautilus Gym Douglas Isle of Man - ECPv6.8.1//NONSGML v1.0//EN
CALSCALE:GREGORIAN
METHOD:PUBLISH
X-WR-CALNAME:The Nautilus Gym Douglas Isle of Man
X-ORIGINAL-URL:https://thenautilusgym.im
X-WR-CALDESC:Events for The Nautilus Gym Douglas Isle of Man
REFRESH-INTERVAL;VALUE=DURATION:PT1H
X-Robots-Tag:noindex
X-PUBLISHED-TTL:PT1H
BEGIN:VTIMEZONE
TZID:Europe/London
BEGIN:DAYLIGHT
TZOFFSETFROM:+0000
TZOFFSETTO:+0100
TZNAME:BST
DTSTART:20230326T010000
END:DAYLIGHT
BEGIN:STANDARD
TZOFFSETFROM:+0100
TZOFFSETTO:+0000
TZNAME:GMT
DTSTART:20231029T010000
END:STANDARD
END:VTIMEZONE
BEGIN:VEVENT
DTSTART;TZID=Europe/London:20231123T063000
DTEND;TZID=Europe/London:20231123T070000
DTSTAMP:20260424T050250
CREATED:20231020T164712Z
LAST-MODIFIED:20231020T164712Z
UID:5828-1700721000-1700722800@thenautilusgym.im
SUMMARY:HIITSTEP (with Amy)
DESCRIPTION:HIITSTEP is the multi-award winning HIIT workout that only requires you and a STEP. HIITSTEP is a 30-minute high-intensity interval training (HIIT) full body workout\, designed to work you to the max. Choreographed and combined with high energy bespoke soundtracks created by some of the UK’s top house DJ’s. HIITSTEP provides you with the ultimate workout experience. \nTo book this class please contact Abc Fitness on 489409 or email abcfitnessiom@gmail.com
URL:https://thenautilusgym.im/classes/hiitstep-with-amy-110/
END:VEVENT
BEGIN:VEVENT
DTSTART;TZID=Europe/London:20231123T170000
DTEND;TZID=Europe/London:20231123T180000
DTSTAMP:20260424T050250
CREATED:20231020T172118Z
LAST-MODIFIED:20231020T172118Z
UID:5846-1700758800-1700762400@thenautilusgym.im
SUMMARY:Strong & Lean (with Paula)
DESCRIPTION:To book this class please contact Abc Fitness on 489409 or email abcfitnessiom@gmail.com
URL:https://thenautilusgym.im/classes/strong-lean-with-paula-21/
END:VEVENT
BEGIN:VEVENT
DTSTART;TZID=Europe/London:20231123T180000
DTEND;TZID=Europe/London:20231123T190000
DTSTAMP:20260424T050250
CREATED:20231025T084745Z
LAST-MODIFIED:20231025T084745Z
UID:5912-1700762400-1700766000@thenautilusgym.im
SUMMARY:Intermediate Contemporary Pilates (with Claire)
DESCRIPTION:Some previous movement practice required \nIf you would like to book this class\, please contact Claire Kinrade on 481417 or email clairekinrade@gmail.com
URL:https://thenautilusgym.im/classes/intermediate-contemporary-pilates-with-claire-111/
END:VEVENT
END:VCALENDAR