BEGIN:VCALENDAR
VERSION:2.0
PRODID:-//The Nautilus Gym Douglas Isle of Man - ECPv6.8.1//NONSGML v1.0//EN
CALSCALE:GREGORIAN
METHOD:PUBLISH
X-ORIGINAL-URL:https://thenautilusgym.im
X-WR-CALDESC:Events for The Nautilus Gym Douglas Isle of Man
REFRESH-INTERVAL;VALUE=DURATION:PT1H
X-Robots-Tag:noindex
X-PUBLISHED-TTL:PT1H
BEGIN:VTIMEZONE
TZID:Europe/London
BEGIN:DAYLIGHT
TZOFFSETFROM:+0000
TZOFFSETTO:+0100
TZNAME:BST
DTSTART:20230326T010000
END:DAYLIGHT
BEGIN:STANDARD
TZOFFSETFROM:+0100
TZOFFSETTO:+0000
TZNAME:GMT
DTSTART:20231029T010000
END:STANDARD
END:VTIMEZONE
BEGIN:VEVENT
DTSTART;TZID=Europe/London:20230405T143000
DTEND;TZID=Europe/London:20230405T153000
DTSTAMP:20260424T163402
CREATED:20230330T170404Z
LAST-MODIFIED:20230330T170404Z
UID:4806-1680705000-1680708600@thenautilusgym.im
SUMMARY:Pilates (with Claire)
DESCRIPTION:Mixed ability pilates\, all levels welcome \nIf you would like to book this class\, please contact Claire Kinrade on 481417 or email clairekinrade@gmail.com
URL:https://thenautilusgym.im/classes/pilates-with-claire-20/
END:VEVENT
BEGIN:VEVENT
DTSTART;TZID=Europe/London:20230405T160000
DTEND;TZID=Europe/London:20230405T173000
DTSTAMP:20260424T163402
CREATED:20230323T181906Z
LAST-MODIFIED:20230323T181906Z
UID:4668-1680710400-1680715800@thenautilusgym.im
SUMMARY:Charlotte Nicole Dance Company
DESCRIPTION:
URL:https://thenautilusgym.im/classes/charlotte-nicole-dance-company-115/
END:VEVENT
BEGIN:VEVENT
DTSTART;TZID=Europe/London:20230405T180000
DTEND;TZID=Europe/London:20230405T190000
DTSTAMP:20260424T163402
CREATED:20230323T181927Z
LAST-MODIFIED:20230323T181927Z
UID:4670-1680717600-1680721200@thenautilusgym.im
SUMMARY:Charlotte Nicole Dance Company
DESCRIPTION:
URL:https://thenautilusgym.im/classes/charlotte-nicole-dance-company-116/
END:VEVENT
END:VCALENDAR