BEGIN:VCALENDAR
VERSION:2.0
PRODID:-//The Nautilus Gym Douglas Isle of Man - ECPv6.8.1//NONSGML v1.0//EN
CALSCALE:GREGORIAN
METHOD:PUBLISH
X-ORIGINAL-URL:https://thenautilusgym.im
X-WR-CALDESC:Events for The Nautilus Gym Douglas Isle of Man
REFRESH-INTERVAL;VALUE=DURATION:PT1H
X-Robots-Tag:noindex
X-PUBLISHED-TTL:PT1H
BEGIN:VTIMEZONE
TZID:Europe/London
BEGIN:DAYLIGHT
TZOFFSETFROM:+0000
TZOFFSETTO:+0100
TZNAME:BST
DTSTART:20230326T010000
END:DAYLIGHT
BEGIN:STANDARD
TZOFFSETFROM:+0100
TZOFFSETTO:+0000
TZNAME:GMT
DTSTART:20231029T010000
END:STANDARD
END:VTIMEZONE
BEGIN:VEVENT
DTSTART;TZID=Europe/London:20230222T160000
DTEND;TZID=Europe/London:20230222T173000
DTSTAMP:20260424T195242
CREATED:20230110T080702Z
LAST-MODIFIED:20230110T080702Z
UID:4336-1677081600-1677087000@thenautilusgym.im
SUMMARY:Charlotte Nicole Dance Company
DESCRIPTION:
URL:https://thenautilusgym.im/classes/charlotte-nicole-dance-company-91/
END:VEVENT
BEGIN:VEVENT
DTSTART;TZID=Europe/London:20230222T180000
DTEND;TZID=Europe/London:20230222T190000
DTSTAMP:20260424T195242
CREATED:20230110T080801Z
LAST-MODIFIED:20230110T080801Z
UID:4344-1677088800-1677092400@thenautilusgym.im
SUMMARY:Charlotte Nicole Dance Company
DESCRIPTION:
URL:https://thenautilusgym.im/classes/charlotte-nicole-dance-company-95/
END:VEVENT
END:VCALENDAR