BEGIN:VCALENDAR
VERSION:2.0
PRODID:-//The Nautilus Gym Douglas Isle of Man - ECPv6.8.1//NONSGML v1.0//EN
CALSCALE:GREGORIAN
METHOD:PUBLISH
X-WR-CALNAME:The Nautilus Gym Douglas Isle of Man
X-ORIGINAL-URL:https://thenautilusgym.im
X-WR-CALDESC:Events for The Nautilus Gym Douglas Isle of Man
REFRESH-INTERVAL;VALUE=DURATION:PT1H
X-Robots-Tag:noindex
X-PUBLISHED-TTL:PT1H
BEGIN:VTIMEZONE
TZID:Europe/London
BEGIN:DAYLIGHT
TZOFFSETFROM:+0000
TZOFFSETTO:+0100
TZNAME:BST
DTSTART:20230326T010000
END:DAYLIGHT
BEGIN:STANDARD
TZOFFSETFROM:+0100
TZOFFSETTO:+0000
TZNAME:GMT
DTSTART:20231029T010000
END:STANDARD
END:VTIMEZONE
BEGIN:VEVENT
DTSTART;TZID=Europe/London:20230218T084500
DTEND;TZID=Europe/London:20230218T093000
DTSTAMP:20260424T195142
CREATED:20230110T074655Z
LAST-MODIFIED:20230110T074655Z
UID:4318-1676709900-1676712600@thenautilusgym.im
SUMMARY:Pure Pump (with Paula)
DESCRIPTION:A pure pump class provides an effective fat burning workout. If you’re looking to tone up\, build muscle or burn fat\, this Pump class using weights will give you an all over\, total body workout. As you lift\, curl and lunge your way through the range of upbeat exercises\, the time will fly by. Further benefits of this toning workout include increased stamina and endurance. Building a stronger\, healthier you is the target of this full body strength and toning Pure Pump class that burns approx. 450 calories per class \nTo book this class please contact Abc Fitness on 489409 or email abcfitnessiom@gmail.com
URL:https://thenautilusgym.im/classes/pure-pump-with-paula-26/
END:VEVENT
BEGIN:VEVENT
DTSTART;TZID=Europe/London:20230218T093000
DTEND;TZID=Europe/London:20230218T101500
DTSTAMP:20260424T195142
CREATED:20230110T074909Z
LAST-MODIFIED:20230110T074909Z
UID:4326-1676712600-1676715300@thenautilusgym.im
SUMMARY:Pure Pump (with Paula)
DESCRIPTION:A pure pump class provides an effective fat burning workout. If you’re looking to tone up\, build muscle or burn fat\, this Pump class using weights will give you an all over\, total body workout. As you lift\, curl and lunge your way through the range of upbeat exercises\, the time will fly by. Further benefits of this toning workout include increased stamina and endurance. Building a stronger\, healthier you is the target of this full body strength and toning Pure Pump class that burns approx. 450 calories per class \nTo book this class please contact Abc Fitness on 489409 or email abcfitnessiom@gmail.com
URL:https://thenautilusgym.im/classes/pure-pump-with-paula-30/
END:VEVENT
END:VCALENDAR