BEGIN:VCALENDAR
VERSION:2.0
PRODID:-//The Nautilus Gym Douglas Isle of Man - ECPv6.8.1//NONSGML v1.0//EN
CALSCALE:GREGORIAN
METHOD:PUBLISH
X-ORIGINAL-URL:https://thenautilusgym.im
X-WR-CALDESC:Events for The Nautilus Gym Douglas Isle of Man
REFRESH-INTERVAL;VALUE=DURATION:PT1H
X-Robots-Tag:noindex
X-PUBLISHED-TTL:PT1H
BEGIN:VTIMEZONE
TZID:Europe/London
BEGIN:DAYLIGHT
TZOFFSETFROM:+0000
TZOFFSETTO:+0100
TZNAME:BST
DTSTART:20230326T010000
END:DAYLIGHT
BEGIN:STANDARD
TZOFFSETFROM:+0100
TZOFFSETTO:+0000
TZNAME:GMT
DTSTART:20231029T010000
END:STANDARD
END:VTIMEZONE
BEGIN:VEVENT
DTSTART;TZID=Europe/London:20230215T143000
DTEND;TZID=Europe/London:20230215T153000
DTSTAMP:20260424T195246
CREATED:20230110T081350Z
LAST-MODIFIED:20230110T081350Z
UID:4358-1676471400-1676475000@thenautilusgym.im
SUMMARY:Pilates (with Claire)
DESCRIPTION:Mixed ability pilates\, all levels welcome \nIf you would like to book this class\, please contact Claire Kinrade on 481417 or email clairekinrade@gmail.com
URL:https://thenautilusgym.im/classes/pilates-with-claire-14/
END:VEVENT
BEGIN:VEVENT
DTSTART;TZID=Europe/London:20230215T160000
DTEND;TZID=Europe/London:20230215T173000
DTSTAMP:20260424T195246
CREATED:20230110T080646Z
LAST-MODIFIED:20230110T080646Z
UID:4334-1676476800-1676482200@thenautilusgym.im
SUMMARY:Charlotte Nicole Dance Company
DESCRIPTION:
URL:https://thenautilusgym.im/classes/charlotte-nicole-dance-company-90/
END:VEVENT
BEGIN:VEVENT
DTSTART;TZID=Europe/London:20230215T180000
DTEND;TZID=Europe/London:20230215T190000
DTSTAMP:20260424T195246
CREATED:20230110T080748Z
LAST-MODIFIED:20230110T080748Z
UID:4342-1676484000-1676487600@thenautilusgym.im
SUMMARY:Charlotte Nicole Dance Company
DESCRIPTION:
URL:https://thenautilusgym.im/classes/charlotte-nicole-dance-company-94/
END:VEVENT
END:VCALENDAR