BEGIN:VCALENDAR
VERSION:2.0
PRODID:-//The Nautilus Gym Douglas Isle of Man - ECPv6.8.1//NONSGML v1.0//EN
CALSCALE:GREGORIAN
METHOD:PUBLISH
X-ORIGINAL-URL:https://thenautilusgym.im
X-WR-CALDESC:Events for The Nautilus Gym Douglas Isle of Man
REFRESH-INTERVAL;VALUE=DURATION:PT1H
X-Robots-Tag:noindex
X-PUBLISHED-TTL:PT1H
BEGIN:VTIMEZONE
TZID:Europe/London
BEGIN:DAYLIGHT
TZOFFSETFROM:+0000
TZOFFSETTO:+0100
TZNAME:BST
DTSTART:20230326T010000
END:DAYLIGHT
BEGIN:STANDARD
TZOFFSETFROM:+0100
TZOFFSETTO:+0000
TZNAME:GMT
DTSTART:20231029T010000
END:STANDARD
END:VTIMEZONE
BEGIN:VEVENT
DTSTART;TZID=Europe/London:20230201T143000
DTEND;TZID=Europe/London:20230201T153000
DTSTAMP:20260424T195249
CREATED:20230110T081157Z
LAST-MODIFIED:20230110T081157Z
UID:4354-1675261800-1675265400@thenautilusgym.im
SUMMARY:Pilates (with Claire)
DESCRIPTION:Mixed ability pilates\, all levels welcome \nIf you would like to book this class\, please contact Claire Kinrade on 481417 or email clairekinrade@gmail.com
URL:https://thenautilusgym.im/classes/pilates-with-claire-9/
END:VEVENT
BEGIN:VEVENT
DTSTART;TZID=Europe/London:20230201T160000
DTEND;TZID=Europe/London:20230201T173000
DTSTAMP:20260424T195249
CREATED:20230110T080613Z
LAST-MODIFIED:20230110T080613Z
UID:4330-1675267200-1675272600@thenautilusgym.im
SUMMARY:Charlotte Nicole Dance Company
DESCRIPTION:
URL:https://thenautilusgym.im/classes/charlotte-nicole-dance-company-88/
END:VEVENT
BEGIN:VEVENT
DTSTART;TZID=Europe/London:20230201T180000
DTEND;TZID=Europe/London:20230201T190000
DTSTAMP:20260424T195249
CREATED:20230110T080719Z
LAST-MODIFIED:20230110T080719Z
UID:4338-1675274400-1675278000@thenautilusgym.im
SUMMARY:Charlotte Nicole Dance Company
DESCRIPTION:
URL:https://thenautilusgym.im/classes/charlotte-nicole-dance-company-92/
END:VEVENT
END:VCALENDAR