BEGIN:VCALENDAR
VERSION:2.0
PRODID:-//The Nautilus Gym Douglas Isle of Man - ECPv6.8.1//NONSGML v1.0//EN
CALSCALE:GREGORIAN
METHOD:PUBLISH
X-WR-CALNAME:The Nautilus Gym Douglas Isle of Man
X-ORIGINAL-URL:https://thenautilusgym.im
X-WR-CALDESC:Events for The Nautilus Gym Douglas Isle of Man
REFRESH-INTERVAL;VALUE=DURATION:PT1H
X-Robots-Tag:noindex
X-PUBLISHED-TTL:PT1H
BEGIN:VTIMEZONE
TZID:Europe/London
BEGIN:DAYLIGHT
TZOFFSETFROM:+0000
TZOFFSETTO:+0100
TZNAME:BST
DTSTART:20230326T010000
END:DAYLIGHT
BEGIN:STANDARD
TZOFFSETFROM:+0100
TZOFFSETTO:+0000
TZNAME:GMT
DTSTART:20231029T010000
END:STANDARD
END:VTIMEZONE
BEGIN:VEVENT
DTSTART;TZID=Europe/London:20230124T061500
DTEND;TZID=Europe/London:20230124T064500
DTSTAMP:20260424T213329
CREATED:20221216T164708Z
LAST-MODIFIED:20221216T164708Z
UID:4087-1674540900-1674542700@thenautilusgym.im
SUMMARY:Metafit (with Amy)
DESCRIPTION:A metafit class is a 30 minute\, non-choreographed\, body weight only workout that sets the metabolism on fire. Think push – ups\, squats\, planks\, burpees\, plyometric lunges and squat jumps. \nMetafit workouts also use variations on standard bodyweight movements. \nTo book this class please contact Abc Fitness on 489409 or email abcfitnessiom@gmail.com
URL:https://thenautilusgym.im/classes/metafit-with-amy-20/
END:VEVENT
BEGIN:VEVENT
DTSTART;TZID=Europe/London:20230124T120000
DTEND;TZID=Europe/London:20230124T124500
DTSTAMP:20260424T213329
CREATED:20221216T173246Z
LAST-MODIFIED:20221216T173246Z
UID:4165-1674561600-1674564300@thenautilusgym.im
SUMMARY:Freestyle Fitness Yoga (with Shaun)
DESCRIPTION:Freestyle Fitness Yoga is a contemporary approach to yoga\, it mixes traditional yoga postures\,\nstretches and balances with fitness principles. Traditional yoga tends to combine both the physical\nand spiritual experience\, in FFY we concentrate on the physical aspect using yoga postures that\nendorse strength and stability and increase flexibility. \nFFY focuses on transitions from one posture to another which challenges the skeletal muscles as you\nlift and lower the body/body parts and hold certain postures; or flow from one posture/position to\nthe next. FFY is designed to get the very best out of everyone so is suitable for complete beginners\nor those wanting to change and adapt their practice. Challenging yourself physically and rising to the\nchallenge will lead to improved self-confidence and an ever increasing positive mental attitude. \nContact The Nautilus Gym to book on 626368 or email thenautilusgym@gmail.com \nThis class is charged at £3 for members & £5 for non-members
URL:https://thenautilusgym.im/classes/freestyle-fitness-yoga-with-shaun-72/
END:VEVENT
BEGIN:VEVENT
DTSTART;TZID=Europe/London:20230124T160000
DTEND;TZID=Europe/London:20230124T164500
DTSTAMP:20260424T213329
CREATED:20221216T171814Z
LAST-MODIFIED:20221216T171814Z
UID:4131-1674576000-1674578700@thenautilusgym.im
SUMMARY:Thighs\, Bums & Tums (with Karin)
DESCRIPTION:To book for this class\, please contact Karin Cowin on Facebook or contact Fit For You Facebook page
URL:https://thenautilusgym.im/classes/thighs-bums-tums-with-karin-7/
END:VEVENT
BEGIN:VEVENT
DTSTART;TZID=Europe/London:20230124T170000
DTEND;TZID=Europe/London:20230124T180000
DTSTAMP:20260424T213329
CREATED:20221216T164321Z
LAST-MODIFIED:20230104T071250Z
UID:4075-1674579600-1674583200@thenautilusgym.im
SUMMARY:Power / Metcon (with Christine)
DESCRIPTION:Metabolic Conditioning (Metcon for short) is a high impact\, high intensity class using barbells\, dumbbells and bodyweight that can quickly help improve your fitness levels and stamina \nTo book this class please contact Abc Fitness on 489409 or email abcfitnessiom@gmail.com
URL:https://thenautilusgym.im/classes/power-metcon-with-christine-4/
END:VEVENT
BEGIN:VEVENT
DTSTART;TZID=Europe/London:20230124T180000
DTEND;TZID=Europe/London:20230124T190000
DTSTAMP:20260424T213329
CREATED:20221216T165222Z
LAST-MODIFIED:20221216T165222Z
UID:4097-1674583200-1674586800@thenautilusgym.im
SUMMARY:Retrofit (with Paula)
DESCRIPTION:4 classes over 4 weeks\, a different class each week \nAerobics \nStep \nLegs\, Bums and Tums \nBox-a-Robics \nTo book this class please contact Abc Fitness on 489409 or email abcfitnessiom@gmail.com
URL:https://thenautilusgym.im/classes/retrofit-with-paula-19/
END:VEVENT
END:VCALENDAR