BEGIN:VCALENDAR
VERSION:2.0
PRODID:-//The Nautilus Gym Douglas Isle of Man - ECPv6.8.1//NONSGML v1.0//EN
CALSCALE:GREGORIAN
METHOD:PUBLISH
X-WR-CALNAME:The Nautilus Gym Douglas Isle of Man
X-ORIGINAL-URL:https://thenautilusgym.im
X-WR-CALDESC:Events for The Nautilus Gym Douglas Isle of Man
REFRESH-INTERVAL;VALUE=DURATION:PT1H
X-Robots-Tag:noindex
X-PUBLISHED-TTL:PT1H
BEGIN:VTIMEZONE
TZID:Europe/London
BEGIN:DAYLIGHT
TZOFFSETFROM:+0000
TZOFFSETTO:+0100
TZNAME:BST
DTSTART:20230326T010000
END:DAYLIGHT
BEGIN:STANDARD
TZOFFSETFROM:+0100
TZOFFSETTO:+0000
TZNAME:GMT
DTSTART:20231029T010000
END:STANDARD
END:VTIMEZONE
BEGIN:VEVENT
DTSTART;TZID=Europe/London:20230118T143000
DTEND;TZID=Europe/London:20230118T153000
DTSTAMP:20260424T213330
CREATED:20221216T174104Z
LAST-MODIFIED:20221216T174104Z
UID:4188-1674052200-1674055800@thenautilusgym.im
SUMMARY:Pilates (with Claire)
DESCRIPTION:Mixed ability pilates\, all levels welcome \nIf you would like to book this class\, please contact Claire Kinrade on 481417 or email clairekinrade@gmail.com
URL:https://thenautilusgym.im/classes/pilates-with-claire-11/
END:VEVENT
BEGIN:VEVENT
DTSTART;TZID=Europe/London:20230118T160000
DTEND;TZID=Europe/London:20230118T173000
DTSTAMP:20260424T213330
CREATED:20221216T172151Z
LAST-MODIFIED:20221216T172151Z
UID:4139-1674057600-1674063000@thenautilusgym.im
SUMMARY:Charlotte Nicole Dance Company
DESCRIPTION:
URL:https://thenautilusgym.im/classes/charlotte-nicole-dance-company-78/
END:VEVENT
BEGIN:VEVENT
DTSTART;TZID=Europe/London:20230118T180000
DTEND;TZID=Europe/London:20230118T190000
DTSTAMP:20260424T213330
CREATED:20221216T172620Z
LAST-MODIFIED:20221216T172620Z
UID:4147-1674064800-1674068400@thenautilusgym.im
SUMMARY:Charlotte Nicole Dance Company
DESCRIPTION:
URL:https://thenautilusgym.im/classes/charlotte-nicole-dance-company-82/
END:VEVENT
END:VCALENDAR