BEGIN:VCALENDAR
VERSION:2.0
PRODID:-//The Nautilus Gym Douglas Isle of Man - ECPv6.8.1//NONSGML v1.0//EN
CALSCALE:GREGORIAN
METHOD:PUBLISH
X-ORIGINAL-URL:https://thenautilusgym.im
X-WR-CALDESC:Events for The Nautilus Gym Douglas Isle of Man
REFRESH-INTERVAL;VALUE=DURATION:PT1H
X-Robots-Tag:noindex
X-PUBLISHED-TTL:PT1H
BEGIN:VTIMEZONE
TZID:Europe/London
BEGIN:DAYLIGHT
TZOFFSETFROM:+0000
TZOFFSETTO:+0100
TZNAME:BST
DTSTART:20230326T010000
END:DAYLIGHT
BEGIN:STANDARD
TZOFFSETFROM:+0100
TZOFFSETTO:+0000
TZNAME:GMT
DTSTART:20231029T010000
END:STANDARD
END:VTIMEZONE
BEGIN:VEVENT
DTSTART;TZID=Europe/London:20230108T100000
DTEND;TZID=Europe/London:20230108T110000
DTSTAMP:20260424T213412
CREATED:20221229T141810Z
LAST-MODIFIED:20221229T141810Z
UID:4232-1673172000-1673175600@thenautilusgym.im
SUMMARY:MenoFit (with Paula)
DESCRIPTION:If you would like to book for this class\, please contact Paula Williams or message the MenoFit Facebook page
URL:https://thenautilusgym.im/classes/menofit-with-paula/
END:VEVENT
END:VCALENDAR