BEGIN:VCALENDAR
VERSION:2.0
PRODID:-//The Nautilus Gym Douglas Isle of Man - ECPv6.8.1//NONSGML v1.0//EN
CALSCALE:GREGORIAN
METHOD:PUBLISH
X-WR-CALNAME:The Nautilus Gym Douglas Isle of Man
X-ORIGINAL-URL:https://thenautilusgym.im
X-WR-CALDESC:Events for The Nautilus Gym Douglas Isle of Man
REFRESH-INTERVAL;VALUE=DURATION:PT1H
X-Robots-Tag:noindex
X-PUBLISHED-TTL:PT1H
BEGIN:VTIMEZONE
TZID:Europe/London
BEGIN:DAYLIGHT
TZOFFSETFROM:+0000
TZOFFSETTO:+0100
TZNAME:BST
DTSTART:20220327T010000
END:DAYLIGHT
BEGIN:STANDARD
TZOFFSETFROM:+0100
TZOFFSETTO:+0000
TZNAME:GMT
DTSTART:20221030T010000
END:STANDARD
END:VTIMEZONE
BEGIN:VEVENT
DTSTART;TZID=Europe/London:20221222T061500
DTEND;TZID=Europe/London:20221222T064500
DTSTAMP:20260424T230821
CREATED:20221213T080742Z
LAST-MODIFIED:20221213T080742Z
UID:3965-1671689700-1671691500@thenautilusgym.im
SUMMARY:HIITSTEP (with Amy)
DESCRIPTION:HIITSTEP is the multi-award winning HIIT workout that only requires you and a STEP. HIITSTEP is a 30-minute high-intensity interval training (HIIT) full body workout\, designed to work you to the max. Choreographed and combined with high energy bespoke soundtracks created by some of the UK’s top house DJ’s. HIITSTEP provides you with the ultimate workout experience. \nTo book this class please contact Abc Fitness on 489409 or email abcfitnessiom@gmail.com
URL:https://thenautilusgym.im/classes/hiitstep-with-amy-21/
END:VEVENT
BEGIN:VEVENT
DTSTART;TZID=Europe/London:20221222T160000
DTEND;TZID=Europe/London:20221222T173000
DTSTAMP:20260424T230821
CREATED:20221213T083732Z
LAST-MODIFIED:20221213T083732Z
UID:4016-1671724800-1671730200@thenautilusgym.im
SUMMARY:Charlotte Nicole Dance Company
DESCRIPTION:
URL:https://thenautilusgym.im/classes/charlotte-nicole-dance-company-75/
END:VEVENT
END:VCALENDAR