BEGIN:VCALENDAR
VERSION:2.0
PRODID:-//The Nautilus Gym Douglas Isle of Man - ECPv6.8.1//NONSGML v1.0//EN
CALSCALE:GREGORIAN
METHOD:PUBLISH
X-ORIGINAL-URL:https://thenautilusgym.im
X-WR-CALDESC:Events for The Nautilus Gym Douglas Isle of Man
REFRESH-INTERVAL;VALUE=DURATION:PT1H
X-Robots-Tag:noindex
X-PUBLISHED-TTL:PT1H
BEGIN:VTIMEZONE
TZID:Europe/London
BEGIN:DAYLIGHT
TZOFFSETFROM:+0000
TZOFFSETTO:+0100
TZNAME:BST
DTSTART:20220327T010000
END:DAYLIGHT
BEGIN:STANDARD
TZOFFSETFROM:+0100
TZOFFSETTO:+0000
TZNAME:GMT
DTSTART:20221030T010000
END:STANDARD
END:VTIMEZONE
BEGIN:VEVENT
DTSTART;TZID=Europe/London:20221220T061500
DTEND;TZID=Europe/London:20221220T064500
DTSTAMP:20260424T230851
CREATED:20221213T080456Z
LAST-MODIFIED:20221213T080456Z
UID:3957-1671516900-1671518700@thenautilusgym.im
SUMMARY:Metafit (with Amy)
DESCRIPTION:A metafit class is a 30 minute\, non-choreographed\, body weight only workout that sets the metabolism on fire. Think push – ups\, squats\, planks\, burpees\, plyometric lunges and squat jumps. \nMetafit workouts also use variations on standard bodyweight movements. \nTo book this class please contact Abc Fitness on 489409 or email abcfitnessiom@gmail.com
URL:https://thenautilusgym.im/classes/metafit-with-amy-16/
END:VEVENT
BEGIN:VEVENT
DTSTART;TZID=Europe/London:20221220T160000
DTEND;TZID=Europe/London:20221220T164500
DTSTAMP:20260424T230851
CREATED:20221213T084401Z
LAST-MODIFIED:20221213T084401Z
UID:4034-1671552000-1671554700@thenautilusgym.im
SUMMARY:Thighs\, Bums & Tums (with Karin)
DESCRIPTION:To book for this class\, please contact Karin Cowin on Facebook or contact Fit For You Facebook page
URL:https://thenautilusgym.im/classes/thighs-bums-tums-with-karin-3/
END:VEVENT
END:VCALENDAR