BEGIN:VCALENDAR
VERSION:2.0
PRODID:-//The Nautilus Gym Douglas Isle of Man - ECPv6.8.1//NONSGML v1.0//EN
CALSCALE:GREGORIAN
METHOD:PUBLISH
X-ORIGINAL-URL:https://thenautilusgym.im
X-WR-CALDESC:Events for The Nautilus Gym Douglas Isle of Man
REFRESH-INTERVAL;VALUE=DURATION:PT1H
X-Robots-Tag:noindex
X-PUBLISHED-TTL:PT1H
BEGIN:VTIMEZONE
TZID:Europe/London
BEGIN:DAYLIGHT
TZOFFSETFROM:+0000
TZOFFSETTO:+0100
TZNAME:BST
DTSTART:20220327T010000
END:DAYLIGHT
BEGIN:STANDARD
TZOFFSETFROM:+0100
TZOFFSETTO:+0000
TZNAME:GMT
DTSTART:20221030T010000
END:STANDARD
END:VTIMEZONE
BEGIN:VEVENT
DTSTART;TZID=Europe/London:20221214T143000
DTEND;TZID=Europe/London:20221214T153000
DTSTAMP:20260424T230910
CREATED:20221213T083912Z
LAST-MODIFIED:20221213T083912Z
UID:4020-1671028200-1671031800@thenautilusgym.im
SUMMARY:Pilates (with Claire)
DESCRIPTION:Mixed ability pilates\, all levels welcome \nIf you would like to book this class\, please contact Claire Kinrade on 481417 or email clairekinrade@gmail.com
URL:https://thenautilusgym.im/classes/pilates-with-claire-8/
END:VEVENT
BEGIN:VEVENT
DTSTART;TZID=Europe/London:20221214T160000
DTEND;TZID=Europe/London:20221214T173000
DTSTAMP:20260424T230910
CREATED:20221213T083334Z
LAST-MODIFIED:20221213T083334Z
UID:4000-1671033600-1671039000@thenautilusgym.im
SUMMARY:Charlotte Nicole Dance Company
DESCRIPTION:
URL:https://thenautilusgym.im/classes/charlotte-nicole-dance-company-53/
END:VEVENT
BEGIN:VEVENT
DTSTART;TZID=Europe/London:20221214T180000
DTEND;TZID=Europe/London:20221214T190000
DTSTAMP:20260424T230910
CREATED:20221213T083455Z
LAST-MODIFIED:20221213T083455Z
UID:4006-1671040800-1671044400@thenautilusgym.im
SUMMARY:Charlotte Nicole Dance Company
DESCRIPTION:
URL:https://thenautilusgym.im/classes/charlotte-nicole-dance-company-70/
END:VEVENT
END:VCALENDAR