BEGIN:VCALENDAR
VERSION:2.0
PRODID:-//The Nautilus Gym Douglas Isle of Man - ECPv6.8.1//NONSGML v1.0//EN
CALSCALE:GREGORIAN
METHOD:PUBLISH
X-ORIGINAL-URL:https://thenautilusgym.im
X-WR-CALDESC:Events for The Nautilus Gym Douglas Isle of Man
REFRESH-INTERVAL;VALUE=DURATION:PT1H
X-Robots-Tag:noindex
X-PUBLISHED-TTL:PT1H
BEGIN:VTIMEZONE
TZID:Europe/London
BEGIN:DAYLIGHT
TZOFFSETFROM:+0000
TZOFFSETTO:+0100
TZNAME:BST
DTSTART:20220327T010000
END:DAYLIGHT
BEGIN:STANDARD
TZOFFSETFROM:+0100
TZOFFSETTO:+0000
TZNAME:GMT
DTSTART:20221030T010000
END:STANDARD
END:VTIMEZONE
BEGIN:VEVENT
DTSTART;TZID=Europe/London:20221126T090000
DTEND;TZID=Europe/London:20221126T100000
DTSTAMP:20260425T003917
CREATED:20221010T062213Z
LAST-MODIFIED:20221010T062213Z
UID:3333-1669453200-1669456800@thenautilusgym.im
SUMMARY:Pure Pump (with Paula)
DESCRIPTION:A pure pump class provides an effective fat burning workout. If you’re looking to tone up\, build muscle or burn fat\, this Pump class using weights will give you an all over\, total body workout. As you lift\, curl and lunge your way through the range of upbeat exercises\, the time will fly by. Further benefits of this toning workout include increased stamina and endurance. Building a stronger\, healthier you is the target of this full body strength and toning Pure Pump class that burns approx. 450 calories per class \nTo book this class please contact Abc Fitness on 489409 or email abcfitnessiom@gmail.com
URL:https://thenautilusgym.im/classes/pure-pump-with-paula-13/
END:VEVENT
BEGIN:VEVENT
DTSTART;TZID=Europe/London:20221126T103000
DTEND;TZID=Europe/London:20221126T113000
DTSTAMP:20260425T003917
CREATED:20221010T062633Z
LAST-MODIFIED:20221010T062633Z
UID:3341-1669458600-1669462200@thenautilusgym.im
SUMMARY:Pilates (with Kasey)
DESCRIPTION:A low impact workout that emphasises core strength\, flexibility and alignment. \nImprove the function of your core\, hips and spine \nImprove posture \nActivate and strengthen the core \nStabilise the joints \nThe class is a merging of Pilates\, stretching and mobility poses through the facilitation of breath and mindfulness. \nTo book this class please contact Kasey Lachenicht on 07510 635042 or email kaseyspilates@gmail.com
URL:https://thenautilusgym.im/classes/pilates-with-kasey-11/
END:VEVENT
END:VCALENDAR