BEGIN:VCALENDAR
VERSION:2.0
PRODID:-//The Nautilus Gym Douglas Isle of Man - ECPv6.8.1//NONSGML v1.0//EN
CALSCALE:GREGORIAN
METHOD:PUBLISH
X-ORIGINAL-URL:https://thenautilusgym.im
X-WR-CALDESC:Events for The Nautilus Gym Douglas Isle of Man
REFRESH-INTERVAL;VALUE=DURATION:PT1H
X-Robots-Tag:noindex
X-PUBLISHED-TTL:PT1H
BEGIN:VTIMEZONE
TZID:Europe/London
BEGIN:DAYLIGHT
TZOFFSETFROM:+0000
TZOFFSETTO:+0100
TZNAME:BST
DTSTART:20220327T010000
END:DAYLIGHT
BEGIN:STANDARD
TZOFFSETFROM:+0100
TZOFFSETTO:+0000
TZNAME:GMT
DTSTART:20221030T010000
END:STANDARD
END:VTIMEZONE
BEGIN:VEVENT
DTSTART;TZID=Europe/London:20221010T183000
DTEND;TZID=Europe/London:20221010T193000
DTSTAMP:20260425T021325
CREATED:20220907T062712Z
LAST-MODIFIED:20220907T062712Z
UID:3107-1665426600-1665430200@thenautilusgym.im
SUMMARY:Advanced Contemporary Pilates (with Claire)
DESCRIPTION:Previous pilates experience essential \nIf you would like to book this class\, please contact Claire Kinrade on 481417 or email clairekinrade@gmail.com
URL:https://thenautilusgym.im/classes/advanced-contemporary-pilates-with-claire-6/
END:VEVENT
BEGIN:VEVENT
DTSTART;TZID=Europe/London:20221010T194500
DTEND;TZID=Europe/London:20221010T204500
DTSTAMP:20260425T021325
CREATED:20220907T063429Z
LAST-MODIFIED:20220907T063429Z
UID:3115-1665431100-1665434700@thenautilusgym.im
SUMMARY:Intermediate Contemporary Pilates (with Claire)
DESCRIPTION:Some previous movement practice required \nIf you would like to book this class\, please contact Claire Kinrade on 481417 or email clairekinrade@gmail.com
URL:https://thenautilusgym.im/classes/intermediate-contemporary-pilates-with-claire-14/
END:VEVENT
END:VCALENDAR