BEGIN:VCALENDAR
VERSION:2.0
PRODID:-//The Nautilus Gym Douglas Isle of Man - ECPv6.8.1//NONSGML v1.0//EN
CALSCALE:GREGORIAN
METHOD:PUBLISH
X-WR-CALNAME:The Nautilus Gym Douglas Isle of Man
X-ORIGINAL-URL:https://thenautilusgym.im
X-WR-CALDESC:Events for The Nautilus Gym Douglas Isle of Man
REFRESH-INTERVAL;VALUE=DURATION:PT1H
X-Robots-Tag:noindex
X-PUBLISHED-TTL:PT1H
BEGIN:VTIMEZONE
TZID:Europe/London
BEGIN:DAYLIGHT
TZOFFSETFROM:+0000
TZOFFSETTO:+0100
TZNAME:BST
DTSTART:20220327T010000
END:DAYLIGHT
BEGIN:STANDARD
TZOFFSETFROM:+0100
TZOFFSETTO:+0000
TZNAME:GMT
DTSTART:20221030T010000
END:STANDARD
END:VTIMEZONE
BEGIN:VEVENT
DTSTART;TZID=Europe/London:20220921T153000
DTEND;TZID=Europe/London:20220921T163000
DTSTAMP:20260425T035502
CREATED:20220728T170620Z
LAST-MODIFIED:20220728T170620Z
UID:3006-1663774200-1663777800@thenautilusgym.im
SUMMARY:Pilates (with Claire)
DESCRIPTION:Mixed ability pilates\, all levels welcome \nIf you would like to book this class\, please contact Claire Kinrade on 481417 or email clairekinrade@gmail.com
URL:https://thenautilusgym.im/classes/pilates-with-claire-3/
END:VEVENT
BEGIN:VEVENT
DTSTART;TZID=Europe/London:20220921T170000
DTEND;TZID=Europe/London:20220921T183000
DTSTAMP:20260425T035502
CREATED:20220719T074617Z
LAST-MODIFIED:20220719T074617Z
UID:2845-1663779600-1663785000@thenautilusgym.im
SUMMARY:Charlotte Nicole Dance Company
DESCRIPTION:
URL:https://thenautilusgym.im/classes/charlotte-nicole-dance-company-30/
END:VEVENT
BEGIN:VEVENT
DTSTART;TZID=Europe/London:20220921T190000
DTEND;TZID=Europe/London:20220921T200000
DTSTAMP:20260425T035502
CREATED:20220719T074747Z
LAST-MODIFIED:20220719T074747Z
UID:2853-1663786800-1663790400@thenautilusgym.im
SUMMARY:Charlotte Nicole Dance Company
DESCRIPTION:
URL:https://thenautilusgym.im/classes/charlotte-nicole-dance-company-37/
END:VEVENT
END:VCALENDAR