BEGIN:VCALENDAR
VERSION:2.0
PRODID:-//The Nautilus Gym Douglas Isle of Man - ECPv6.8.1//NONSGML v1.0//EN
CALSCALE:GREGORIAN
METHOD:PUBLISH
X-WR-CALNAME:The Nautilus Gym Douglas Isle of Man
X-ORIGINAL-URL:https://thenautilusgym.im
X-WR-CALDESC:Events for The Nautilus Gym Douglas Isle of Man
REFRESH-INTERVAL;VALUE=DURATION:PT1H
X-Robots-Tag:noindex
X-PUBLISHED-TTL:PT1H
BEGIN:VTIMEZONE
TZID:Europe/London
BEGIN:DAYLIGHT
TZOFFSETFROM:+0000
TZOFFSETTO:+0100
TZNAME:BST
DTSTART:20220327T010000
END:DAYLIGHT
BEGIN:STANDARD
TZOFFSETFROM:+0100
TZOFFSETTO:+0000
TZNAME:GMT
DTSTART:20221030T010000
END:STANDARD
END:VTIMEZONE
BEGIN:VEVENT
DTSTART;TZID=Europe/London:20220913T071500
DTEND;TZID=Europe/London:20220913T074500
DTSTAMP:20260425T035505
CREATED:20220810T051316Z
LAST-MODIFIED:20220810T051316Z
UID:3046-1663053300-1663055100@thenautilusgym.im
SUMMARY:Metafit (with Amy)
DESCRIPTION:A metafit class is a 30 minute\, non choreographed\, body weight only workout that sets the metabolism on fire. Think push – ups\, squats\, planks\, burpees\, plyometric lunges and squat jumps. \nMetafit workouts also use variations on standard bodyweight movements. \nTo book this class please contact Abc Fitness on 489409 or email abcfitnessiom@gmail.com
URL:https://thenautilusgym.im/classes/metafit-with-amy-2/
END:VEVENT
BEGIN:VEVENT
DTSTART;TZID=Europe/London:20220913T190000
DTEND;TZID=Europe/London:20220913T200000
DTSTAMP:20260425T035505
CREATED:20220901T113152Z
LAST-MODIFIED:20220901T113152Z
UID:3099-1663095600-1663099200@thenautilusgym.im
SUMMARY:Retrofit (with Paula)
DESCRIPTION:4 classes over 4 weeks\, a different class each week \nAerobics \nStep \nLegs\, Bums and Tums \nBox-a-Robics \nTo book this class please contact Abc Fitness on 489409 or email abcfitnessiom@gmail.com
URL:https://thenautilusgym.im/classes/retrofit-with-paula-2/
END:VEVENT
END:VCALENDAR