BEGIN:VCALENDAR
VERSION:2.0
PRODID:-//The Nautilus Gym Douglas Isle of Man - ECPv6.8.1//NONSGML v1.0//EN
CALSCALE:GREGORIAN
METHOD:PUBLISH
X-ORIGINAL-URL:https://thenautilusgym.im
X-WR-CALDESC:Events for The Nautilus Gym Douglas Isle of Man
REFRESH-INTERVAL;VALUE=DURATION:PT1H
X-Robots-Tag:noindex
X-PUBLISHED-TTL:PT1H
BEGIN:VTIMEZONE
TZID:Europe/London
BEGIN:DAYLIGHT
TZOFFSETFROM:+0000
TZOFFSETTO:+0100
TZNAME:BST
DTSTART:20220327T010000
END:DAYLIGHT
BEGIN:STANDARD
TZOFFSETFROM:+0100
TZOFFSETTO:+0000
TZNAME:GMT
DTSTART:20221030T010000
END:STANDARD
END:VTIMEZONE
BEGIN:VEVENT
DTSTART;TZID=Europe/London:20220806T100000
DTEND;TZID=Europe/London:20220806T110000
DTSTAMP:20260425T053036
CREATED:20220711T082546Z
LAST-MODIFIED:20220711T082546Z
UID:2793-1659780000-1659783600@thenautilusgym.im
SUMMARY:Body Sculpt (with Aimie)
DESCRIPTION:Body sculpting or core conditioning is a non-aerobic\, muscle-toning class\, usually focused on core strength. Most sculpting classes use weight bars\, exercise bands\, dumbbells\, or a combination of all. You perform traditional weight-training moves in a class setting.
URL:https://thenautilusgym.im/classes/body-sculpt-with-aimie-21/
END:VEVENT
END:VCALENDAR